BEGIN:VCALENDAR
VERSION:2.0
PRODID:-//Le Salon Beige - ECPv5.7.0//NONSGML v1.0//EN
CALSCALE:GREGORIAN
METHOD:PUBLISH
X-WR-CALNAME:Le Salon Beige
X-ORIGINAL-URL:https://www.lesalonbeige.fr
X-WR-CALDESC:évènements pour Le Salon Beige
BEGIN:VTIMEZONE
TZID:Europe/Paris
BEGIN:DAYLIGHT
TZOFFSETFROM:+0100
TZOFFSETTO:+0200
TZNAME:CEST
DTSTART:20210328T010000
END:DAYLIGHT
BEGIN:STANDARD
TZOFFSETFROM:+0200
TZOFFSETTO:+0100
TZNAME:CET
DTSTART:20211031T010000
END:STANDARD
END:VTIMEZONE
BEGIN:VEVENT
DTSTART;VALUE=DATE:20210827
DTEND;VALUE=DATE:20210830
DTSTAMP:20210910T214004
CREATED:20210702T133922Z
LAST-MODIFIED:20210702T133922Z
UID:343847-1630022400-1630281599@www.lesalonbeige.fr
SUMMARY:Université d'Été Renaissance Catholique
DESCRIPTION:Du 27 au 29 Aout à l’Abbaye des Pins\nConférences retenues : \nEcologie et mondialisme – Guilhem Golfin\nLa terre est-elle surpeuplée ?  – Gérard-François Dumont\nQue penser du réchauffement climatique ? – Benoît Rittaud\nL’imposture éolienne –  Fabien Bouglé\nL’Eglise du XXIe siècle sera-t-elle verte ? – Jean-Pierre Maugendre\nCe que je ne savais pas… et vous non plus – Philippe de Villiers\nLa Covid 19 : un cas de manipulation de l’opinion – Jean-Yves le Gallou\nLa fin d’un monde. Comment disparaît une religion ? – Patrick Buisson\nComment résister à la propagande écologiste à l’école ? – Yann de Cacqueray\nL’homme et la nature dans le plan de Dieu – Abbé Guillaume de Tanoüarn \nS’inscrire ici
URL:https://www.lesalonbeige.fr/evenement/universite-dete-renaissance-catholique/
LOCATION:abbaye notre dame des Pins\, 11 Le Pin\, Béruges\, 86190\, France
ATTACH;FMTTYPE=image/png:https://www.lesalonbeige.fr/wp-content/uploads/2021/07/capture-decran-2021-06-10-a-162148.png
ORGANIZER;CN="Renaissance%20Catholique":MAILTO:contact@renaissancecatholique.fr
GEO:46.5691367;0.1792887
X-APPLE-STRUCTURED-LOCATION;VALUE=URI;X-ADDRESS=abbaye notre dame des Pins 11 Le Pin Béruges 86190 France;X-APPLE-RADIUS=500;X-TITLE=11 Le Pin:geo:0.1792887,46.5691367
END:VEVENT
BEGIN:VEVENT
DTSTART;TZID=Europe/Paris:20210625T193000
DTEND;TZID=Europe/Paris:20210625T210000
DTSTAMP:20210910T214004
CREATED:20210617T171501Z
LAST-MODIFIED:20210617T171501Z
UID:343083-1624649400-1624654800@www.lesalonbeige.fr
SUMMARY:25 juin : Conférence Mgr Schneider
DESCRIPTION:Conférence et dédicaces par Monseigneur Schneider pour son livre “Christus Vincit\, le Triomphe du Christ sur les ténèbres de notre temps” le vendredi 25 Juin à Paris à 19h30 \nInterrogé par Jeanne SMITS (journaliste) \nDédicaces du livre “Christus Vincit” et “Corpus Christi\, la Communion dans la main” uniquement pour les livres vendus sur place \nSalle de l’ASIEM\, 6 Rue Albert de Lapparent 75007 PARIS \nMétro Ségur – Ligne 10 \nMétro Sévres-Lecourbe – ligne 6 \nEntrée payante 15€ par personne\, dans la limite des places disponibles. Contrôle des billets à l’entrée.
URL:https://www.lesalonbeige.fr/evenement/25-juin-conference-mgr-schneider/
LOCATION:ASIEM\, 6 Rue albert Lapparent\, Paris\, 75007\, France
CATEGORIES:75 - Paris
ATTACH;FMTTYPE=image/png:https://www.lesalonbeige.fr/wp-content/uploads/2021/06/capture-decran-2021-06-02-a-121529.png
ORGANIZER;CN="Renaissance%20Catholique":MAILTO:contact@renaissancecatholique.fr
GEO:48.8486547;2.3083339
X-APPLE-STRUCTURED-LOCATION;VALUE=URI;X-ADDRESS=ASIEM 6 Rue albert Lapparent Paris 75007 France;X-APPLE-RADIUS=500;X-TITLE=6 Rue albert Lapparent:geo:2.3083339,48.8486547
END:VEVENT
END:VCALENDAR