BEGIN:VCALENDAR
VERSION:2.0
PRODID:-//Le Salon Beige - ECPv5.7.0//NONSGML v1.0//EN
CALSCALE:GREGORIAN
METHOD:PUBLISH
X-WR-CALNAME:Le Salon Beige
X-ORIGINAL-URL:https://www.lesalonbeige.fr
X-WR-CALDESC:évènements pour Le Salon Beige
BEGIN:VTIMEZONE
TZID:Europe/Paris
BEGIN:DAYLIGHT
TZOFFSETFROM:+0100
TZOFFSETTO:+0200
TZNAME:CEST
DTSTART:20210328T010000
END:DAYLIGHT
BEGIN:STANDARD
TZOFFSETFROM:+0200
TZOFFSETTO:+0100
TZNAME:CET
DTSTART:20211031T010000
END:STANDARD
END:VTIMEZONE
BEGIN:VEVENT
DTSTART;VALUE=DATE:20210912
DTEND;VALUE=DATE:20210913
DTSTAMP:20210904T040014
CREATED:20210828T072711Z
LAST-MODIFIED:20210828T072711Z
UID:345976-1631404800-1631491199@www.lesalonbeige.fr
SUMMARY:Journée cistercienne de Signyl’Abbaye 12 septembre 2021
DESCRIPTION:10h30 messe grégorienne à l’église de Signy\n14h30 audition d’orgue Maurice Pinsson à l’église\n15h30 ” les origine de la musique cistercienne depuis l’édit de Milan de 313 et les manuscrits de l’abbaye de Signy” conférence Brigitte Van Wymeersch salle Guillaume de St Thierry
URL:https://www.lesalonbeige.fr/evenement/journee-cistercienne-de-signylabbaye-12-septembre-2021/
ORGANIZER;CN="Nicole%20BOUCHER":MAILTO:famboucher@free.fr
END:VEVENT
END:VCALENDAR