BEGIN:VCALENDAR
VERSION:2.0
PRODID:-//Le Salon Beige - ECPv5.7.0//NONSGML v1.0//EN
CALSCALE:GREGORIAN
METHOD:PUBLISH
X-WR-CALNAME:Le Salon Beige
X-ORIGINAL-URL:https://www.lesalonbeige.fr
X-WR-CALDESC:évènements pour Le Salon Beige
BEGIN:VTIMEZONE
TZID:Europe/Paris
BEGIN:DAYLIGHT
TZOFFSETFROM:+0100
TZOFFSETTO:+0200
TZNAME:CEST
DTSTART:20210328T010000
END:DAYLIGHT
BEGIN:STANDARD
TZOFFSETFROM:+0200
TZOFFSETTO:+0100
TZNAME:CET
DTSTART:20211031T010000
END:STANDARD
END:VTIMEZONE
BEGIN:VEVENT
DTSTART;TZID=Europe/Paris:20210822T150000
DTEND;TZID=Europe/Paris:20210829T100000
DTSTAMP:20210910T214445
CREATED:20210617T171523Z
LAST-MODIFIED:20210617T171540Z
UID:343086-1629644400-1630231200@www.lesalonbeige.fr
SUMMARY:22-29 août : Université d’été de l'AF
DESCRIPTION:10 AXES DE SALUT NATIONAL \n« Face à la crise des ins­ti­tu­tions\, ne faut-il pas ima­gi­ner autre chose que ce qui existe ? »\nDu 22 au 29 août \, Camp de for­ma­tion Maxime Real Del Sarte (CMRDS)\, réser­vé aux étu­diants\, lycéens et jeunes tra­vailleurs (15 – 35 ans). \nBien que l’Action fran­çaise ne croie pas à l’instauration pos­sible d’une « bonne » répu­blique en rai­son des tares inhé­rentes à ce régime\, maintes fois démon­trées\, et qu’elle consi­dère tou­jours que l’instauration d’une monar­chie active soit la pre­mière des prio­ri­tés dans l’intérêt des Fran­çais\, elle ne sau­rait tou­te­fois se dés­in­té­res­ser des élec­tions\, pré­si­den­tielle et légis­la­tives\, qui\, en façon­nant l’équilibre poli­tique des cinq années sui­vantes\, condi­tionnent en grande par­tie l’avenir du pays. \n►L’Action fran­çaise a défi­ni dix axes de salut natio­nal qui sont autant d’axes prio­ri­taires visant à rele­ver le pays. Loin de consti­tuer un pro­gramme élec­to­ral\, dont la constante est de n’être jamais res­pec­té\, ils indiquent les pistes à emprun­ter prio­ri­tai­re­ment par la France pour sor­tir de sa crise non seule­ment éco­no­mique et finan­cière\, mais éga­le­ment et avant tout intel­lec­tuelle et morale. \nAu pro­gramme (pro­vi­soire) : https://www.actionfrancaise.net/evenement/universite-dete-cmrds-2/ \nINFORMATIONS PRATIQUES •\nDate :\nCMRDS du 22 au 29 août 2021\nUDT ouverte à tous ! le 28 août 2021\nLieu :\nChâ­teau d’Ailly\, 42120 Pari­gny\, à 5km de la gare SNCF de Roanne (navettes organisées)
URL:https://www.lesalonbeige.fr/evenement/22-29-aout-universite-dete-de-laf/
CATEGORIES:42 - Loire
ATTACH;FMTTYPE=image/jpeg:https://www.lesalonbeige.fr/wp-content/uploads/2021/06/cmrds2021-recto-724x1024-1.jpg
ORGANIZER;CN="La%20Restauration%20Nationale":MAILTO:contact@actionfrancaise.net
END:VEVENT
BEGIN:VEVENT
DTSTART;TZID=Europe/Paris:20210509T100000
DTEND;TZID=Europe/Paris:20210509T113000
DTSTAMP:20210910T214445
CREATED:20210430T052930Z
LAST-MODIFIED:20210430T052930Z
UID:337819-1620554400-1620559800@www.lesalonbeige.fr
SUMMARY:9 mai - Paris/Cortège d’hommage à Jeanne d’Arc
DESCRIPTION:Rendez-vous à 10H place de l’Opéra\, Paris 9ème\, pour rendre hommage à celle qui sauva la France.
URL:https://www.lesalonbeige.fr/evenement/9-mai-paris-cortege-dhommage-a-jeanne-darc/
LOCATION:Place de l’opéra\, Paris\, Place de l'Opéra\, Paris\, 75009\, France
ATTACH;FMTTYPE=image/png:https://www.lesalonbeige.fr/wp-content/uploads/2021/04/jeanne2021.png
ORGANIZER;CN="La%20Restauration%20Nationale":MAILTO:contact@actionfrancaise.net
GEO:48.8719438;2.3329125
X-APPLE-STRUCTURED-LOCATION;VALUE=URI;X-ADDRESS=Place de l’opéra Paris Place de l'Opéra Paris 75009 France;X-APPLE-RADIUS=500;X-TITLE=Place de l'Opéra:geo:2.3329125,48.8719438
END:VEVENT
BEGIN:VEVENT
DTSTART;TZID=Europe/Paris:20210508T150000
DTEND;TZID=Europe/Paris:20210508T180000
DTSTAMP:20210910T214445
CREATED:20210428T152603Z
LAST-MODIFIED:20210428T152603Z
UID:337747-1620486000-1620496800@www.lesalonbeige.fr
SUMMARY:8 mai - Colloque [en ligne] : Les libertés ne s’octroient pas\, elles se prennent !
DESCRIPTION:Je m’inscris gratuitement : https://www.billetweb.fr/shop.php?event=les-libertes-de-noctroient-pas-elle-se-prennent \nPlus d’informations : contact@actionfrancaise.net
URL:https://www.lesalonbeige.fr/evenement/8-mai-colloque-en-ligne-les-libertes-ne-soctroient-pas-elles-se-prennent/
ATTACH;FMTTYPE=image/jpeg:https://www.lesalonbeige.fr/wp-content/uploads/2021/04/2021-meeting-programme-scaled.jpg
ORGANIZER;CN="La%20Restauration%20Nationale":MAILTO:contact@actionfrancaise.net
END:VEVENT
END:VCALENDAR