BEGIN:VCALENDAR
VERSION:2.0
PRODID:-//Le Salon Beige - ECPv5.7.0//NONSGML v1.0//EN
CALSCALE:GREGORIAN
METHOD:PUBLISH
X-WR-CALNAME:Le Salon Beige
X-ORIGINAL-URL:https://www.lesalonbeige.fr
X-WR-CALDESC:évènements pour Le Salon Beige
BEGIN:VTIMEZONE
TZID:Europe/Paris
BEGIN:DAYLIGHT
TZOFFSETFROM:+0100
TZOFFSETTO:+0200
TZNAME:CEST
DTSTART:20210328T010000
END:DAYLIGHT
BEGIN:STANDARD
TZOFFSETFROM:+0200
TZOFFSETTO:+0100
TZNAME:CET
DTSTART:20211031T010000
END:STANDARD
END:VTIMEZONE
BEGIN:VEVENT
DTSTART;TZID=Europe/Paris:20210826T113000
DTEND;TZID=Europe/Paris:20210829T153000
DTSTAMP:20210910T215640
CREATED:20210614T110303Z
LAST-MODIFIED:20210614T110303Z
UID:342880-1629977400-1630251000@www.lesalonbeige.fr
SUMMARY:Du 26 au 29 août : retraite ESTO VIR - sois un homme
DESCRIPTION:Aux hommes modernes qui doivent être pourvus d’équilibre mental\, de solidité nerveuse\, de jugement\, de courage moral\, et de résistance à la fatigue : \nRetraite spirituelle en plein air. Pour hommes (à partir de 18 ans) \nRaid de quatre jours en autonomie autour du lac d’Annecy. \nEffort physique et formation spirituelle\, pour restaurer l’homme. \nEsto vir… Agissez en homme de cœur\, et combattons pour notre peuple et pour la cité de notre Dieu ; et le Seigneur ordonnera de tout comme il lui plaira. (2Sm 10\, 12)
URL:https://www.lesalonbeige.fr/evenement/du-26-au-29-aout-retraite-esto-vir-sois-un-homme/
LOCATION:lac d’Annecy\, France
ATTACH;FMTTYPE=image/jpeg:https://www.lesalonbeige.fr/wp-content/uploads/2021/06/esto-vir-juillet-et-aout-214.jpg
GEO:46.227638;2.213749
END:VEVENT
BEGIN:VEVENT
DTSTART;TZID=Europe/Paris:20210703T113000
DTEND;TZID=Europe/Paris:20210706T150000
DTSTAMP:20210910T215640
CREATED:20210614T110251Z
LAST-MODIFIED:20210614T110251Z
UID:342877-1625311800-1625583600@www.lesalonbeige.fr
SUMMARY:Du 3 au 6 juillet : retraite ESTO VIR - sois un homme
DESCRIPTION:Aux hommes modernes qui doivent être pourvus d’équilibre mental\, de solidité nerveuse\, de jugement\, de courage moral\, et de résistance à la fatigue : \nRetraite spirituelle en plein air. Pour hommes (à partir de 18 ans) \nRaid de quatre jours en autonomie autour du lac d’Annecy. \nEffort physique et formation spirituelle\, pour restaurer l’homme. \nEsto vir… Agissez en homme de cœur\, et combattons pour notre peuple et pour la cité de notre Dieu ; et le Seigneur ordonnera de tout comme il lui plaira. (2Sm 10\, 12)
URL:https://www.lesalonbeige.fr/evenement/du-3-au-6-juillet-retraite-esto-vir-sois-un-homme/
LOCATION:lac d’Annecy\, France
CATEGORIES:74 - Haute-Savoie
ATTACH;FMTTYPE=image/jpeg:https://www.lesalonbeige.fr/wp-content/uploads/2021/06/esto-vir-juillet-et-aout-213.jpg
GEO:46.227638;2.213749
END:VEVENT
END:VCALENDAR