BEGIN:VCALENDAR
VERSION:2.0
PRODID:-//Le Salon Beige - ECPv5.7.0//NONSGML v1.0//EN
CALSCALE:GREGORIAN
METHOD:PUBLISH
X-WR-CALNAME:Le Salon Beige
X-ORIGINAL-URL:https://www.lesalonbeige.fr
X-WR-CALDESC:évènements pour Le Salon Beige
BEGIN:VTIMEZONE
TZID:Europe/Paris
BEGIN:DAYLIGHT
TZOFFSETFROM:+0100
TZOFFSETTO:+0200
TZNAME:CEST
DTSTART:20210328T010000
END:DAYLIGHT
BEGIN:STANDARD
TZOFFSETFROM:+0200
TZOFFSETTO:+0100
TZNAME:CET
DTSTART:20211031T010000
END:STANDARD
END:VTIMEZONE
BEGIN:VEVENT
DTSTART;TZID=Europe/Paris:20210803T080000
DTEND;TZID=Europe/Paris:20210813T170000
DTSTAMP:20210910T215249
CREATED:20210515T082436Z
LAST-MODIFIED:20210515T082436Z
UID:338712-1627977600-1628874000@www.lesalonbeige.fr
SUMMARY:Du 3 au 13 août : Chantier participatif familial
DESCRIPTION:Venez partager un moment de convivialité chrétienne\, en participant à la rénovation du Foyer Notre-Dame des Pauvres\, en Dordogne. Tous les âges\, toutes les compétences sont les bienvenus. Participez à l’élaboration d’une solution vivante\, chaleureuse et joyeuse pour ce monde mourant.
URL:https://www.lesalonbeige.fr/evenement/du-3-au-13-aout-chantier-participatif-familial/
LOCATION:Bourrou
CATEGORIES:24 - Dordogne
ATTACH;FMTTYPE=image/jpeg:https://www.lesalonbeige.fr/wp-content/uploads/2021/05/affiche.jpg
ORGANIZER;CN="Foyer%20Notre-Dame%20des%20Pauvres":MAILTO:contact@foyernddespauvres.org
END:VEVENT
BEGIN:VEVENT
DTSTART;TZID=Europe/Paris:20210529T080000
DTEND;TZID=Europe/Paris:20210529T130000
DTSTAMP:20210910T215249
CREATED:20210517T194255Z
LAST-MODIFIED:20210517T194255Z
UID:338821-1622275200-1622293200@www.lesalonbeige.fr
SUMMARY:Centre hébertiste pétrocorien
DESCRIPTION:L’éducation physique adaptée à tous\, pratiquée en plein air.\nEn famille – en couple – seul – entre amis.\nSéances le samedi matin à Bourrou (24110).
URL:https://www.lesalonbeige.fr/evenement/centre-hebertiste-petrocorien/
LOCATION:Bourrou
CATEGORIES:24 - Dordogne
ATTACH;FMTTYPE=image/jpeg:https://www.lesalonbeige.fr/wp-content/uploads/2021/05/tract-a5-2.jpg
ORGANIZER;CN="Foyer%20Notre-Dame%20des%20Pauvres":MAILTO:contact@foyernddespauvres.org
END:VEVENT
END:VCALENDAR