BEGIN:VCALENDAR
VERSION:2.0
PRODID:-//Le Salon Beige - ECPv5.7.0//NONSGML v1.0//EN
CALSCALE:GREGORIAN
METHOD:PUBLISH
X-WR-CALNAME:Le Salon Beige
X-ORIGINAL-URL:https://www.lesalonbeige.fr
X-WR-CALDESC:évènements pour Le Salon Beige
BEGIN:VTIMEZONE
TZID:Europe/Paris
BEGIN:DAYLIGHT
TZOFFSETFROM:+0100
TZOFFSETTO:+0200
TZNAME:CEST
DTSTART:20210328T010000
END:DAYLIGHT
BEGIN:STANDARD
TZOFFSETFROM:+0200
TZOFFSETTO:+0100
TZNAME:CET
DTSTART:20211031T010000
END:STANDARD
END:VTIMEZONE
BEGIN:VEVENT
DTSTART;VALUE=DATE:20210925
DTEND;VALUE=DATE:20210927
DTSTAMP:20210904T032813
CREATED:20210902T140741Z
LAST-MODIFIED:20210902T140741Z
UID:346290-1632528000-1632700799@www.lesalonbeige.fr
SUMMARY:25-26 septembre : Pèlerinage Feiz e Breizh vers Sainte Anne d'Auray
DESCRIPTION:Thème du pèlerinage : « Les Saints Protecteurs »\nSamedi 25 septembre au matin\, les pélerins ont rendez-vous à Guénin (Baud) pour la Messe. Les pèlerins parcoureront 28 kilomètres pour rejoindre le bivouac dressé à Bieuzy-Lanvaux (Notre-Dame de Fatima)\, avec feu de veillée et adoration nocturne au Saint-Sacrement.\nDimanche 26 septembre\, la colonne des pélerins franchira encore 20 kilomètres pour atteindre Sainte-Anne-d’Auray. À 15h30\, Dom Louis-Marie de Geyer d’Orth\, Abbé de l’Abbaye Sainte Madeleine du Barroux\, présidera la Messe Pontificale pour la clôture de l’édition 2021 du Pèlerinage « Feiz e Breizh ». \nhttps://www.feiz.bzh
URL:https://www.lesalonbeige.fr/evenement/25-26-septembre-pelerinage-feiz-e-breizh-vers-sainte-anne-dauray/
LOCATION:Sainte-Anne d’Auray\, Sainte-Anne d'Auray\, 56263\, France
CATEGORIES:56 - Morbihan
ATTACH;FMTTYPE=image/jpeg:https://www.lesalonbeige.fr/wp-content/uploads/2021/09/feiz-e-breizh-2021-hd-scaled.jpg
ORGANIZER;CN="Feiz%20e%20Breizh":MAILTO:contact@feiz.bzh
GEO:47.703625;-2.950358
END:VEVENT
END:VCALENDAR