BEGIN:VCALENDAR
VERSION:2.0
PRODID:-//Le Salon Beige - ECPv5.7.0//NONSGML v1.0//EN
CALSCALE:GREGORIAN
METHOD:PUBLISH
X-WR-CALNAME:Le Salon Beige
X-ORIGINAL-URL:https://www.lesalonbeige.fr
X-WR-CALDESC:évènements pour Le Salon Beige
BEGIN:VTIMEZONE
TZID:Europe/Paris
BEGIN:DAYLIGHT
TZOFFSETFROM:+0100
TZOFFSETTO:+0200
TZNAME:CEST
DTSTART:20210328T010000
END:DAYLIGHT
BEGIN:STANDARD
TZOFFSETFROM:+0200
TZOFFSETTO:+0100
TZNAME:CET
DTSTART:20211031T010000
END:STANDARD
END:VTIMEZONE
BEGIN:VEVENT
DTSTART;TZID=Europe/Paris:20210817T080000
DTEND;TZID=Europe/Paris:20210819T170000
DTSTAMP:20210910T214312
CREATED:20210507T145645Z
LAST-MODIFIED:20210507T145645Z
UID:338363-1629187200-1629392400@www.lesalonbeige.fr
SUMMARY:17-19 août : Camp Extra-ordinaires
DESCRIPTION:La Compagnie de la Sainte-Croix organise cet été un camp ouvert à tous les enfants « extra-ordinaires »\, quel que soit leur handicap. \nCe camp aura lieu sur la commune de Bourrou en Dordogne (24)\, du 17 au 19 août. Il est ouvert aux garçons et aux filles de 8 à 11 ans. \nEn pleine campagne avec un hébergement sous tente\, ce camp permettra aux enfants de découvrir les joies simples d’un séjour dans les bois\, le calme de la nature\, les gazouillis des oiseaux et du ruisseau\, la rosée fraîche du petit matin. Cuisine au feu de bois\, activités manuelles\, hébertisme\, découverte animalière avec un centre équestre… \nChaque enfant aura un encadrant spécialisé attitré ce qui permettra d’adapter le rythme de la journée et les activités aux besoins de chacun.\nRenseignements et inscriptions : Marie Guillaumin\, directrice du séjour : 06 41 33 06 06.\nPrix : 75€ par enfant
URL:https://www.lesalonbeige.fr/evenement/17-19-aout-camp-extra-ordinaires/
LOCATION:Bourrou
ATTACH;FMTTYPE=image/jpeg:https://www.lesalonbeige.fr/wp-content/uploads/2021/05/camp-extra-ordinaires.jpg
END:VEVENT
END:VCALENDAR