BEGIN:VCALENDAR
VERSION:2.0
PRODID:-//Le Salon Beige - ECPv5.7.0//NONSGML v1.0//EN
CALSCALE:GREGORIAN
METHOD:PUBLISH
X-WR-CALNAME:Le Salon Beige
X-ORIGINAL-URL:https://www.lesalonbeige.fr
X-WR-CALDESC:évènements pour Le Salon Beige
BEGIN:VTIMEZONE
TZID:Europe/Paris
BEGIN:DAYLIGHT
TZOFFSETFROM:+0100
TZOFFSETTO:+0200
TZNAME:CEST
DTSTART:20210328T010000
END:DAYLIGHT
BEGIN:STANDARD
TZOFFSETFROM:+0200
TZOFFSETTO:+0100
TZNAME:CET
DTSTART:20211031T010000
END:STANDARD
END:VTIMEZONE
BEGIN:VEVENT
DTSTART;TZID=Europe/Paris:20210726T100000
DTEND;TZID=Europe/Paris:20210730T170000
DTSTAMP:20210910T215525
CREATED:20210527T150243Z
LAST-MODIFIED:20210527T150243Z
UID:339371-1627293600-1627664400@www.lesalonbeige.fr
SUMMARY:26-30 juillet : Retraite de Saint-Ignace
DESCRIPTION:Retraite en silence de 5 jours\, selon la méthode des exercices spirituels de Saint Ignace de Loyola :\n– pour hommes et jeunes gens (à partir de 17 ans)\, du lundi 26 (10h) au vendredi 30 juillet (16h)\, à l’abbaye Notre Dame de Fontgombault (Indre)\, prêchée par l’abbé Gérald de Servigny.\nRenseignements et inscription : TEL. : 06 67 23 27 72\, courriel : retraite.st.ignace (arobase) wanadoo.fr
URL:https://www.lesalonbeige.fr/evenement/26-30-juillet-retraite-de-saint-ignace/
LOCATION:Fontgombault\, Fontgombault\, 36220\, France
CATEGORIES:36 - Indre
ATTACH;FMTTYPE=image/jpeg:https://www.lesalonbeige.fr/wp-content/uploads/2021/05/fontgombault.jpg
GEO:46.675799;0.982956
END:VEVENT
BEGIN:VEVENT
DTSTART;TZID=Europe/Paris:20210426T080000
DTEND;TZID=Europe/Paris:20210430T170000
DTSTAMP:20210910T215525
CREATED:20210312T202103Z
LAST-MODIFIED:20210312T202103Z
UID:335293-1619424000-1619802000@www.lesalonbeige.fr
SUMMARY:26-30 avril : Retraite de Saint-Ignace
DESCRIPTION:Retraite en silence de 5 jours\, selon la méthode des exercices spirituels de Saint Ignace de Loyola\n– du lundi 26 (10h00) au vendredi 30 avril (17h00) à Poissy (78) pour tous (à partir de 17 ans)\, \nprêchée par les abbés Gonzague Babinet et Gérald de Servigny. \nRenseignements et inscription : 06 67 23 27 72\, courriel : retraite.st.ignace(arobase)wanadoo.fr
URL:https://www.lesalonbeige.fr/evenement/26-30-avril-retraite-de-saint-ignace/
LOCATION:Poissy\, 78300\, France
CATEGORIES:78 - Yvelines
ATTACH;FMTTYPE=image/jpeg:https://www.lesalonbeige.fr/wp-content/uploads/2021/03/p73-cpsm-poissy-la-part-dieu-foyer-de.jpg
GEO:48.9373291;2.0533903
END:VEVENT
END:VCALENDAR