BEGIN:VCALENDAR
VERSION:2.0
PRODID:-//Le Salon Beige - ECPv5.7.0//NONSGML v1.0//EN
CALSCALE:GREGORIAN
METHOD:PUBLISH
X-WR-CALNAME:Le Salon Beige
X-ORIGINAL-URL:https://www.lesalonbeige.fr
X-WR-CALDESC:évènements pour Le Salon Beige
BEGIN:VTIMEZONE
TZID:Europe/Paris
BEGIN:DAYLIGHT
TZOFFSETFROM:+0100
TZOFFSETTO:+0200
TZNAME:CEST
DTSTART:20210328T010000
END:DAYLIGHT
BEGIN:STANDARD
TZOFFSETFROM:+0200
TZOFFSETTO:+0100
TZNAME:CET
DTSTART:20211031T010000
END:STANDARD
END:VTIMEZONE
BEGIN:VEVENT
DTSTART;TZID=Europe/Paris:20210824T090000
DTEND;TZID=Europe/Paris:20210827T180000
DTSTAMP:20210910T215242
CREATED:20210624T141052Z
LAST-MODIFIED:20210624T141052Z
UID:343420-1629795600-1630087200@www.lesalonbeige.fr
SUMMARY:24-27 août : Pélé Sainte Mère Teresa
DESCRIPTION:Le CSMT se veut un complément des diverses activités que les jeunes peuvent faire durant l’année ( scoutisme\,sport…) . Organisé dans le diocèse de Luçon ce camp permet à des jeunes de toute la France de se rencontrer alors que certains peuvent être seule pour vivre leur foi durant l’année. \nLe CSMT s’adresse à des jeunes filles de 13 à 18 ans voulant vivre un moment fort tant sur un plan humain que spirituel durant leurs vacances d’été. \nPelé à vélo allant de Saint-Laurent-sur-sèvre à Luçon (85) du 24 au 27 août 2021.
URL:https://www.lesalonbeige.fr/evenement/24-27-aout-pele-sainte-mere-teresa/
LOCATION:Vendée\, France
ATTACH;FMTTYPE=image/jpeg:https://www.lesalonbeige.fr/wp-content/uploads/2021/06/affiche-csmt-impression-1-scaled.jpg
GEO:46.227638;2.213749
END:VEVENT
END:VCALENDAR