BEGIN:VCALENDAR
VERSION:2.0
PRODID:-//Le Salon Beige - ECPv5.7.0//NONSGML v1.0//EN
CALSCALE:GREGORIAN
METHOD:PUBLISH
X-WR-CALNAME:Le Salon Beige
X-ORIGINAL-URL:https://www.lesalonbeige.fr
X-WR-CALDESC:évènements pour Le Salon Beige
BEGIN:VTIMEZONE
TZID:Europe/Paris
BEGIN:DAYLIGHT
TZOFFSETFROM:+0100
TZOFFSETTO:+0200
TZNAME:CEST
DTSTART:20210328T010000
END:DAYLIGHT
BEGIN:STANDARD
TZOFFSETFROM:+0200
TZOFFSETTO:+0100
TZNAME:CET
DTSTART:20211031T010000
END:STANDARD
END:VTIMEZONE
BEGIN:VEVENT
DTSTART;TZID=Europe/Paris:20210823T080000
DTEND;TZID=Europe/Paris:20210827T170000
DTSTAMP:20210910T215557
CREATED:20210614T150516Z
LAST-MODIFIED:20210614T150516Z
UID:342907-1629705600-1630083600@www.lesalonbeige.fr
SUMMARY:23-27 août : Pèlerinage à Rome sur les pas de saint Dominique avec Odeia
DESCRIPTION:Venez à Rome où bat le cœur de notre Mère la Sainte Église ! Dans notre ‘seconde patrie’\, venez ‘respirer cette atmosphère de sainteté\, de paix et d’universalité qui procurera un profond renouvellement chrétien’. Pie XII. Durant ce pèlerinage\, vous marcherez dans les pas de saint Dominique et des grands saints dominicains ! \nParmi les points forts :\n Sur les pas de saint Dominique et de la trace dominicaine à Rome\n Messe quotidienne\n Une messe à Saint-Pierre de Rome
URL:https://www.lesalonbeige.fr/evenement/23-27-aout-pelerinage-a-rome-sur-les-pas-de-saint-dominique-avec-odeia/
LOCATION:Rome\, Italie
ATTACH;FMTTYPE=image/jpeg:https://www.lesalonbeige.fr/wp-content/uploads/2021/06/shutterstock-648140494.jpg
ORGANIZER;CN="Odeia":MAILTO:contact@odeia.fr
GEO:41.87194;12.56738
END:VEVENT
END:VCALENDAR