BEGIN:VCALENDAR
VERSION:2.0
PRODID:-//Le Salon Beige - ECPv5.7.0//NONSGML v1.0//EN
CALSCALE:GREGORIAN
METHOD:PUBLISH
X-WR-CALNAME:Le Salon Beige
X-ORIGINAL-URL:https://www.lesalonbeige.fr
X-WR-CALDESC:évènements pour Le Salon Beige
BEGIN:VTIMEZONE
TZID:Europe/Paris
BEGIN:DAYLIGHT
TZOFFSETFROM:+0100
TZOFFSETTO:+0200
TZNAME:CEST
DTSTART:20210328T010000
END:DAYLIGHT
BEGIN:STANDARD
TZOFFSETFROM:+0200
TZOFFSETTO:+0100
TZNAME:CET
DTSTART:20211031T010000
END:STANDARD
END:VTIMEZONE
BEGIN:VEVENT
DTSTART;VALUE=DATE:20210312
DTEND;VALUE=DATE:20210315
DTSTAMP:20210910T214614
CREATED:20201231T164134Z
LAST-MODIFIED:20201231T164134Z
UID:330378-1615507200-1615766399@www.lesalonbeige.fr
SUMMARY:Retraite d’hommes 12 – 14 mars Abbaye de Lagrasse
DESCRIPTION:
URL:https://www.lesalonbeige.fr/evenement/retraite-dhommes-12-14-mars-abbaye-de-lagrasse/
LOCATION:Lagrasse\, Lagrasse\, 11220\, France
CATEGORIES:11 - Aude
GEO:43.0915;2.618532
END:VEVENT
BEGIN:VEVENT
DTSTART;VALUE=DATE:20210801
DTEND;VALUE=DATE:20210809
DTSTAMP:20210910T214614
CREATED:20210621T170907Z
LAST-MODIFIED:20210621T171133Z
UID:343233-1627776000-1628467199@www.lesalonbeige.fr
SUMMARY:1er au 8 août : Camp chantier à Lagrasse
DESCRIPTION:Construction d’une chapelle qui sera dédiée à Saint Joseph. \nCe chantier est situé tout près de l’abbaye dans l’Aude. Le logement sera à l’hôtellerie de l’abbaye. Le but du camp est d’aider les jeunes à bâtir leur vie sur le Roc qu’est le Christ.
URL:https://www.lesalonbeige.fr/evenement/1er-au-8-aout-camp-chantier-a-lagrasse/
LOCATION:Lagrasse\, Lagrasse\, 11220\, France
CATEGORIES:11 - Aude
ATTACH;FMTTYPE=image/png:https://www.lesalonbeige.fr/wp-content/uploads/2021/06/camp-chantier-lagrasse-publication-instagram.png
GEO:43.0915;2.618532
END:VEVENT
END:VCALENDAR