BEGIN:VCALENDAR
VERSION:2.0
PRODID:-//Le Salon Beige - ECPv5.7.0//NONSGML v1.0//EN
CALSCALE:GREGORIAN
METHOD:PUBLISH
X-WR-CALNAME:Le Salon Beige
X-ORIGINAL-URL:https://www.lesalonbeige.fr
X-WR-CALDESC:évènements pour Le Salon Beige
BEGIN:VTIMEZONE
TZID:Europe/Paris
BEGIN:DAYLIGHT
TZOFFSETFROM:+0100
TZOFFSETTO:+0200
TZNAME:CEST
DTSTART:20210328T010000
END:DAYLIGHT
BEGIN:STANDARD
TZOFFSETFROM:+0200
TZOFFSETTO:+0100
TZNAME:CET
DTSTART:20211031T010000
END:STANDARD
END:VTIMEZONE
BEGIN:VEVENT
DTSTART;TZID=Europe/Paris:20210925T143000
DTEND;TZID=Europe/Paris:20211120T150000
DTSTAMP:20210904T033029
CREATED:20210628T052759Z
LAST-MODIFIED:20210629T100718Z
UID:343568-1632580200-1637420400@www.lesalonbeige.fr
SUMMARY:Manifestations de SOS Tout-Petits à Paris
DESCRIPTION:
URL:https://www.lesalonbeige.fr/evenement/manifestations-de-sos-tout-petits-a-paris/
LOCATION:Port Royal\, 20 Avenue de l'Observatoire\, Paris\, île de France\, 75005\, France
CATEGORIES:75 - Paris
ATTACH;FMTTYPE=image/jpeg:https://www.lesalonbeige.fr/wp-content/uploads/2021/01/sos-tout-petits-625x312-1.jpg
GEO:48.839919;2.336427
X-APPLE-STRUCTURED-LOCATION;VALUE=URI;X-ADDRESS=Port Royal 20 Avenue de l'Observatoire Paris île de France 75005 France;X-APPLE-RADIUS=500;X-TITLE=20 Avenue de l'Observatoire:geo:2.336427,48.839919
END:VEVENT
BEGIN:VEVENT
DTSTART;TZID=Europe/Paris:20211001T100000
DTEND;TZID=Europe/Paris:20211003T180000
DTSTAMP:20210904T033029
CREATED:20210629T093044Z
LAST-MODIFIED:20210629T100851Z
UID:343663-1633082400-1633284000@www.lesalonbeige.fr
SUMMARY:20 mai - 1er Octobre Présentation du trésor de San Gennaro (Saint Janvier)
DESCRIPTION:Loches accueillera exceptionnellement les pièces du trésor de Saint Janvier qui normalement se trouve à Naples dans sa cathédrale. Abrité à Naples\, dans une chapelle adjacente à la cathédrale (il duomo de Napoli)\, le trésor de San Gennaro est un des plus riche au monde. Ce trésor a été constitué par les fidèles de Naples qui au XVIe siècle sont confrontés à la recrudescence de la peste\, l’éruption du Vésuve et les guerres d’Italie.\nLe peuple de Naples s’adresse alors à son saint patron\, Saint Janvier. Pour s’assurer de sa protection\, les élus de Naples signent en 1527\, en présence d’un notaire\, un contrat avec le saint\, mort douze siècles plus tôt !\nSaint Janvier avait été évêque d’une ville mitoyenne de Naples\, mort martyrisé par Dioclétien il est devenu le saint Patron des Napolitains. C’est son sang qui se liquéfie miraculeusement jusqu’à trois fois par an dans un grand évènement attendu des Napolitains. \nInfos pratiques exposition “Trésor de Naples : le mystère San Gennaro”\nDu 20 mai au 30 juin et du 1er septembre au 1er octobre : ouvert du mercredi au dimanche.\nDu 1er juillet au 31 août\, ouvert tous les jours.\nHoraires : 10 h – 12 h 30 / 14 h – 18 h. \nTarifs : plein 7 € ; réduit 5\,50 € ; gratuit jusqu’à 18 ans inclus.
URL:https://www.lesalonbeige.fr/evenement/presentation-du-tresor-de-san-gennaro-saint-janvier-jusquau-1er-octobre/2021-10-01/
LOCATION:Chancellerie de Loches\, 8 rue du Château\, Loches\, 37600\, France
CATEGORIES:37 - Indre-et-Loire
ATTACH;FMTTYPE=image/png:https://www.lesalonbeige.fr/wp-content/uploads/2021/06/capture-decran-2021-06-29-a-112427.png
GEO:47.1277911;0.9974001
X-APPLE-STRUCTURED-LOCATION;VALUE=URI;X-ADDRESS=Chancellerie de Loches 8 rue du Château Loches 37600 France;X-APPLE-RADIUS=500;X-TITLE=8 rue du Château:geo:0.9974001,47.1277911
END:VEVENT
BEGIN:VEVENT
DTSTART;VALUE=DATE:20211008
DTEND;VALUE=DATE:20211018
DTSTAMP:20210904T033029
CREATED:20210604T154226Z
LAST-MODIFIED:20210716T181342Z
UID:339807-1633651200-1634515199@www.lesalonbeige.fr
SUMMARY:Naprotechnologie : Formation pour les médecins à l'accompagnement des couples en espérance d'enfants
DESCRIPTION: Plusieurs parents ont pu avoir un enfant grâce à la Naprotechnologie\, qui requiert un suivi par une instructrice et un médecin formé. Il y a\, pour la première fois  en France\, une formation (il faut s’inscrire impérativement avant fin juin) pour les médecins (ils ont trop d’instructrices et pas assez de médecins) \nNous avons besoin de médecins formés à la NaProtechnologie ! \nPour plus d’informations ou pour vous inscrire\, rendez-vous sur http://www.fertilitycare.fr\, rubrique “devenir médecin”\, et contactez au plus vite : candidatures@fertilitycare.fr \nLa prochaine formation a lieu à Paris en octobre prochain.
URL:https://www.lesalonbeige.fr/evenement/naprotechnologie-formation-pour-les-medecins-a-laccompagnement-des-couples-en-esperance-denfants/
CATEGORIES:75 - Paris
ATTACH;FMTTYPE=image/png:https://www.lesalonbeige.fr/wp-content/uploads/2021/06/capture-decran-2021-06-04-a-173417.png
END:VEVENT
BEGIN:VEVENT
DTSTART;TZID=Europe/Paris:20211014T203000
DTEND;TZID=Europe/Paris:20211014T223000
DTSTAMP:20210904T033029
CREATED:20210903T115625Z
LAST-MODIFIED:20210903T115625Z
UID:346348-1634243400-1634250600@www.lesalonbeige.fr
SUMMARY:14 octobre : Agonie des patries et déclin des pratiques religieuses par l'abbé Michel Viot
DESCRIPTION:Temps de prière pour la France et enseignement de l’abbé Michel Viot\, auteur de “La France a besoin d’un roi”
URL:https://www.lesalonbeige.fr/evenement/14-octobre-agonie-des-patries-et-declin-des-pratiques-religieuses-par-labbe-michel-viot/
LOCATION:Salles paroissiales Saint Pierre\, 16\, rue Bartayrès\, LOURDES\, 65100\, France
CATEGORIES:31 - Haute-Garonne
ATTACH;FMTTYPE=image/jpeg:https://www.lesalonbeige.fr/wp-content/uploads/2021/09/affiche-viot.jpg
ORGANIZER;CN="Conf%C3%A9rences%20des%20Veilleurs%20de%20Bigorre":MAILTO:cvbigorre@gmail.com
GEO:43.0966432;-0.0450734
X-APPLE-STRUCTURED-LOCATION;VALUE=URI;X-ADDRESS=Salles paroissiales Saint Pierre 16 rue Bartayrès LOURDES 65100 France;X-APPLE-RADIUS=500;X-TITLE=16\, rue Bartayrès:geo:-0.0450734,43.0966432
END:VEVENT
END:VCALENDAR