BEGIN:VCALENDAR
VERSION:2.0
PRODID:-//Le Salon Beige - ECPv6.15.18//NONSGML v1.0//EN
CALSCALE:GREGORIAN
METHOD:PUBLISH
X-WR-CALNAME:Le Salon Beige
X-ORIGINAL-URL:https://lesalonbeige.fr
X-WR-CALDESC:Évènements pour Le Salon Beige
REFRESH-INTERVAL;VALUE=DURATION:PT1H
X-Robots-Tag:noindex
X-PUBLISHED-TTL:PT1H
BEGIN:VTIMEZONE
TZID:Europe/Paris
BEGIN:DAYLIGHT
TZOFFSETFROM:+0100
TZOFFSETTO:+0200
TZNAME:CEST
DTSTART:20200329T010000
END:DAYLIGHT
BEGIN:STANDARD
TZOFFSETFROM:+0200
TZOFFSETTO:+0100
TZNAME:CET
DTSTART:20201025T010000
END:STANDARD
BEGIN:DAYLIGHT
TZOFFSETFROM:+0100
TZOFFSETTO:+0200
TZNAME:CEST
DTSTART:20210328T010000
END:DAYLIGHT
BEGIN:STANDARD
TZOFFSETFROM:+0200
TZOFFSETTO:+0100
TZNAME:CET
DTSTART:20211031T010000
END:STANDARD
BEGIN:DAYLIGHT
TZOFFSETFROM:+0100
TZOFFSETTO:+0200
TZNAME:CEST
DTSTART:20220327T010000
END:DAYLIGHT
BEGIN:STANDARD
TZOFFSETFROM:+0200
TZOFFSETTO:+0100
TZNAME:CET
DTSTART:20221030T010000
END:STANDARD
END:VTIMEZONE
BEGIN:VEVENT
DTSTART;TZID=Europe/Paris:20211001T103000
DTEND;TZID=Europe/Paris:20211031T170000
DTSTAMP:20260423T102255
CREATED:20211001T100637Z
LAST-MODIFIED:20211001T100637Z
UID:10002228-1633084200-1635699600@lesalonbeige.fr
SUMMARY:Le mois du Rosaire avec Livres en Famille
DESCRIPTION:Tout au long du mois d’octobre\, Livres en Famille vous accompagne dans cette grande prière du Rosaire demandée tant de fois par la Vierge Marie. \nLivres\, brochures\, coloriages\, témoignages etc à découvrir sur place ou sur notre site internet.\nhttps://www.livresenfamille.fr/recherche?controller=search&orderby=position&orderway=desc&search_query=le+rosaire&submit_search=?aff=Mjoz \nLes horaires sont souples\, 10h30 – 18h30 – Fermé samedis et dimanches. Remise de bienvenue sur tous les articles.\nLivres en Famille – Les Buissonnets\, 12 avenue de la république – 33730 Préchac\nRenseignements : Tel 06 11 04 82 59
URL:https://lesalonbeige.fr/evenement/le-mois-du-rosaire-avec-livres-en-famille/
LOCATION:Préchac\, Les Buissonnets\, 12 avenue de la république\, PRECHAC\, Gironde\, 33730\, France
CATEGORIES:– En ligne
ATTACH;FMTTYPE=image/jpeg:https://lesalonbeige.fr/wp-content/uploads/2021/10/octobre-mois-durosaire.jpg
ORGANIZER;CN="Livres en Famille":MAILTO:contact@livresenfamille.fr
GEO:44.4007091;-0.3518676
X-APPLE-STRUCTURED-LOCATION;VALUE=URI;X-ADDRESS=Préchac Les Buissonnets 12 avenue de la république PRECHAC Gironde 33730 France;X-APPLE-RADIUS=500;X-TITLE=Les Buissonnets\, 12 avenue de la république:geo:-0.3518676,44.4007091
END:VEVENT
BEGIN:VEVENT
DTSTART;TZID=Europe/Paris:20211030T113000
DTEND;TZID=Europe/Paris:20211102T153000
DTSTAMP:20260423T102255
CREATED:20211006T172923Z
LAST-MODIFIED:20211006T172923Z
UID:10002027-1635593400-1635867000@lesalonbeige.fr
SUMMARY:30 octobre - 2 novembre : retraite ESTO VIR - sois un homme
DESCRIPTION:Aux hommes modernes qui doivent être pourvus d’équilibre mental\, de solidité nerveuse\, de jugement\, de courage moral\, et de résistance à la fatigue : \nRetraite spirituelle en plein air. Pour hommes (à partir de 18 ans) \nRaid de quatre jours en autonomie autour du lac d’Annecy. \nEffort physique et formation spirituelle\, pour restaurer l’homme. \nEsto vir… Agissez en homme de cœur\, et combattons pour notre peuple et pour la cité de notre Dieu ; et le Seigneur ordonnera de tout comme il lui plaira. (2Sm 10\, 12)
URL:https://lesalonbeige.fr/evenement/30-octobre-2-novembre-retraite-esto-vir-sois-un-homme/
LOCATION:autour du lac d’Annecy\, 74\, France
ATTACH;FMTTYPE=image/jpeg:https://lesalonbeige.fr/wp-content/uploads/2021/10/esto-vir-oct-2021.jpg
GEO:46.1756788;6.5389621
END:VEVENT
END:VCALENDAR