BEGIN:VCALENDAR
VERSION:2.0
PRODID:-//Le Salon Beige - ECPv6.15.18//NONSGML v1.0//EN
CALSCALE:GREGORIAN
METHOD:PUBLISH
X-WR-CALNAME:Le Salon Beige
X-ORIGINAL-URL:https://lesalonbeige.fr
X-WR-CALDESC:Évènements pour Le Salon Beige
REFRESH-INTERVAL;VALUE=DURATION:PT1H
X-Robots-Tag:noindex
X-PUBLISHED-TTL:PT1H
BEGIN:VTIMEZONE
TZID:Europe/Paris
BEGIN:DAYLIGHT
TZOFFSETFROM:+0100
TZOFFSETTO:+0200
TZNAME:CEST
DTSTART:20200329T010000
END:DAYLIGHT
BEGIN:STANDARD
TZOFFSETFROM:+0200
TZOFFSETTO:+0100
TZNAME:CET
DTSTART:20201025T010000
END:STANDARD
BEGIN:DAYLIGHT
TZOFFSETFROM:+0100
TZOFFSETTO:+0200
TZNAME:CEST
DTSTART:20210328T010000
END:DAYLIGHT
BEGIN:STANDARD
TZOFFSETFROM:+0200
TZOFFSETTO:+0100
TZNAME:CET
DTSTART:20211031T010000
END:STANDARD
BEGIN:DAYLIGHT
TZOFFSETFROM:+0100
TZOFFSETTO:+0200
TZNAME:CEST
DTSTART:20220327T010000
END:DAYLIGHT
BEGIN:STANDARD
TZOFFSETFROM:+0200
TZOFFSETTO:+0100
TZNAME:CET
DTSTART:20221030T010000
END:STANDARD
END:VTIMEZONE
BEGIN:VEVENT
DTSTART;TZID=Europe/Paris:20210914T080000
DTEND;TZID=Europe/Paris:20211022T183000
DTSTAMP:20260423T031021
CREATED:20210917T100244Z
LAST-MODIFIED:20210917T100244Z
UID:10002017-1631606400-1634927400@lesalonbeige.fr
SUMMARY:Adoration Eucharistique Permanente
DESCRIPTION:Du mardi matin à 8h00 au vendredi à 18h30\, jour et nuit.\nRenseignements et inscriptions: adoration.stdo@protonmail.com
URL:https://lesalonbeige.fr/evenement/adoration-eucharistique-permanente/
LOCATION:Paroisse saint Dominique\, 20 rue de la Tombe Issoire\, Paris\, 75014\, France
CATEGORIES:75 - Paris
ATTACH;FMTTYPE=image/jpeg:https://lesalonbeige.fr/wp-content/uploads/2021/09/affiche-ado-2020-stdo-renseignements-copie-scaled.jpg
GEO:48.8320885;2.3349815
X-APPLE-STRUCTURED-LOCATION;VALUE=URI;X-ADDRESS=Paroisse saint Dominique 20 rue de la Tombe Issoire Paris 75014 France;X-APPLE-RADIUS=500;X-TITLE=20 rue de la Tombe Issoire:geo:2.3349815,48.8320885
END:VEVENT
BEGIN:VEVENT
DTSTART;VALUE=DATE:20210918
DTEND;VALUE=DATE:20210927
DTSTAMP:20260423T031021
CREATED:20210830T202047Z
LAST-MODIFIED:20210830T202047Z
UID:10002166-1631923200-1632700799@lesalonbeige.fr
SUMMARY:18 au 26 septembre : festival "Automne Baroque de Bourges"
DESCRIPTION:
URL:https://lesalonbeige.fr/evenement/18-au-26-septembre-festival-automne-baroque-de-bourges/
LOCATION:Bourges\, 9 rue Macdonald\, Bourges\, 18000\, France
CATEGORIES:18 - Cher
ATTACH;FMTTYPE=image/jpeg:https://lesalonbeige.fr/wp-content/uploads/2021/08/automne-baroque-a-bourges.jpg
GEO:47.0784935;2.4025104
X-APPLE-STRUCTURED-LOCATION;VALUE=URI;X-ADDRESS=Bourges 9 rue Macdonald Bourges 18000 France;X-APPLE-RADIUS=500;X-TITLE=9 rue Macdonald:geo:2.4025104,47.0784935
END:VEVENT
BEGIN:VEVENT
DTSTART;TZID=Europe/Paris:20210922T080000
DTEND;TZID=Europe/Paris:20211010T180000
DTSTAMP:20260423T031021
CREATED:20210922T191026Z
LAST-MODIFIED:20210923T140928Z
UID:10002212-1632297600-1633888800@lesalonbeige.fr
SUMMARY:Opération Fanions "Saints de la Toussaint"
DESCRIPTION:“Réjouissons-nous (…) en célébrant ce jour de fête en l’honneur de tous les Saints !”\nLa Toussaint approche\, une des plus belles fêtes de la Chrétienté durant laquelle la terre et le Ciel sont unis dans une même joie\, les fidèles de l’Eglise militante avec les Saints et les Anges de l’Eglise triomphante. \nA l’occasion de cette solennité\, vous souhaitez encourager chez vos enfants\, filleuls\, neveux… la dévotion à leur saint patron ?\nCommandez le fanion de son saint patron !\nIl pourra le suspendre dans sa chambre et l’invoquer tous les jours.\nChaque fanion se compose d’une image et d’une citation d’un saint\,\nde son nom et d’une bordure décorative dont vous choisirez chaque élément. \nFanion sur toile en polyester au format A5 (21×15 cm)\nMonté sur une seule baguette + ficelle.\n12€ l’unité\, 10€ dès le deuxième fanion et pour tout fanion supplémentaire.\n3€ de frais de port jusqu’à 2 fanions \nRenseignez le tableau en lien ci-dessous ou réclamez-le à cr.renaud@gmail.com\,\nRenvoyez-le à cette même adresse\,\nRéglez sur ce lien\,\nhttps://www.helloasso.com/associations/agoce-l-esperance/paiements/formulaire-de-vente\nVotre commande est passée !\nEt nous travaillerons à répondre au mieux à vos attentes.\nLivraison pour la Toussaint. \nA vous\,\nl’équipe des Fanions de la Toussaint \nbon de commande : \nBON DE COMMANDE FANIONS
URL:https://lesalonbeige.fr/evenement/operation-fanions-saints-de-la-toussaint/
CATEGORIES:– En ligne
ATTACH;FMTTYPE=image/png:https://lesalonbeige.fr/wp-content/uploads/2021/09/2-saintes.png
END:VEVENT
BEGIN:VEVENT
DTSTART;VALUE=DATE:20210925
DTEND;VALUE=DATE:20210926
DTSTAMP:20260423T031021
CREATED:20210916T045022Z
LAST-MODIFIED:20210916T045022Z
UID:10002011-1632528000-1632614399@lesalonbeige.fr
SUMMARY:25 septembre : 13ème Pèlerinage Saint-Louis de France (diocèse de Toulouse)
DESCRIPTION:Le Groupe de Prière toulousain “St Louis de France” \nqui prie pour notre pays et nos compatriotes\ndans l’esprit des apparitions mariales de l’Ile-Bouchard (diocèse de Tours)\,\nvous propose et vous invite pour un temps spirituel et amical\, \nle samedi 25 Septembre 2021\nau 13ème Pèlerinage pour la FRANCE\nde PIBRAC à NOTRE DAME d’ALET\n(à Montaigut-sur-Save / diocèse de Toulouse)\, \nà travers la forêt de Bouconne\, sur des chemins forestiers\net des routes départementales peu fréquentées par les voitures\,\nle long d’une petite vingtaine de kilomètres sans difficultés.\nRespect des mesures sanitaires durant ce pèlerinage en cette période de Coronavirus 19. \nPROGRAMME : les horaires de la marche sont approximatifs. \n07h45 : départ de Toulouse pour le covoiturage\, lieu du rendez-vous Place du Salin.\n08h30 : rassemblement des pèlerins devant l’église de Pibrac\, sur l’esplanade.\n08h45 : prières et recueillement dans l’église de Pibrac\, devant les reliques de Ste Germaine. \n09h00 : départ de la marche (chants\, méditations et récitation du Rosaire durant cette journée).\n11h00 : halte à la maison de Ste Germaine.\n11h15 : départ vers la forêt de Bouconne. \n13h00 : halte et déjeuner sorti du sac au carrefour de Lévignac\, au cœur de la forêt de Bouconne (possibilité d’avoir un lieu abrité). \n14h30 : départ digestif dans la bonne humeur et le recueillement.\n15h45 : halte au lieu-dit “Le Bichou”.\n16h00 : départ et possibilité d’être rejoint par des personnes qui souhaitent faire les derniers kilomètres. \n17h30 : arrivée à N.D. d’Alet\, accueil et visite de ce lieu marial du XIè siècle.\n18h00 : Messe célébrée par le Père Emmanuel CAZANAVE\, aumônier du groupe de prière. \nPossibilité de se confesser avant la messe.\n19h00 / 19h15 : fin du pèlerinage. \nATTENTION ! Un mini-bus navette sera présent à chaque halte pour les marcheurs fatigués. \nIl est demandé à chaque conducteur de laisser leur véhicule sur le parking de l’esplanade de Pibrac pour ceux qui font le pèlerinage dans son entier.\nIl est à noter aussi qu’un parking à Notre-Dame d’Alet sera à votre disposition.\nA la fin du pèlerinage\, les conducteurs seront ramenés sur Pibrac pour récupérer leur voiture afin de pouvoir chercher leur passager à Notre-Dame d’Alet (15mn de route). \nN’oubliez pas de prendre de bonnes chaussures et de bonnes chaussettes (gare aux ampoules !)\, un chapeau\, un vêtement de pluie ou un poncho\, un chandail\,\nune gourde d’eau\, un repas pour le déjeuner\, des fruits secs pour l’effort\, une bonne bouteille pour le réconfort avec un tire-bouchon\, un chapelet\,\nun “Magnificat” ou autre livret de prière quotidienne\, votre carnet de chants\, votre bonne humeur\, vos amis\, … sans oublier votre masque sanitaire\, votre gel hydroalcoolique !!! \nAu samedi 25 Septembre prochain et haut les coeurs ! \nInformations et inscriptions jusqu’au dernier moment :\ngroupesaintlouisdefrance@gmail.com
URL:https://lesalonbeige.fr/evenement/25-septembre-13eme-pelerinage-saint-louis-de-france-diocese-de-toulouse/
LOCATION:église de Pibrac / sanctuaire ND d’Alet à Montaigut-sur-Save\, esplanade de l'église\, Pibrac\, 31820\, France
CATEGORIES:31 - Haute-Garonne
ORGANIZER;CN="Groupe de pri&egrave%3Bre toulousain Saint-Louis-de-France.":MAILTO:groupesaintlouisdefrance@gmail.com
GEO:43.618206;1.282864
X-APPLE-STRUCTURED-LOCATION;VALUE=URI;X-ADDRESS=église de Pibrac / sanctuaire ND d’Alet à Montaigut-sur-Save esplanade de l'église Pibrac 31820 France;X-APPLE-RADIUS=500;X-TITLE=esplanade de l'église:geo:1.282864,43.618206
END:VEVENT
BEGIN:VEVENT
DTSTART;VALUE=DATE:20210925
DTEND;VALUE=DATE:20210927
DTSTAMP:20260423T031021
CREATED:20210902T140741Z
LAST-MODIFIED:20210902T140741Z
UID:10002168-1632528000-1632700799@lesalonbeige.fr
SUMMARY:25-26 septembre : Pèlerinage Feiz e Breizh vers Sainte Anne d'Auray
DESCRIPTION:Thème du pèlerinage : « Les Saints Protecteurs »\nSamedi 25 septembre au matin\, les pélerins ont rendez-vous à Guénin (Baud) pour la Messe. Les pèlerins parcoureront 28 kilomètres pour rejoindre le bivouac dressé à Bieuzy-Lanvaux (Notre-Dame de Fatima)\, avec feu de veillée et adoration nocturne au Saint-Sacrement.\nDimanche 26 septembre\, la colonne des pélerins franchira encore 20 kilomètres pour atteindre Sainte-Anne-d’Auray. À 15h30\, Dom Louis-Marie de Geyer d’Orth\, Abbé de l’Abbaye Sainte Madeleine du Barroux\, présidera la Messe Pontificale pour la clôture de l’édition 2021 du Pèlerinage « Feiz e Breizh ». \n \nAccueil
URL:https://lesalonbeige.fr/evenement/25-26-septembre-pelerinage-feiz-e-breizh-vers-sainte-anne-dauray/
LOCATION:Sainte-Anne d’Auray\, Sainte-Anne d'Auray\, 56263\, France
CATEGORIES:56 - Morbihan
ATTACH;FMTTYPE=image/jpeg:https://lesalonbeige.fr/wp-content/uploads/2021/09/feiz-e-breizh-2021-hd-scaled.jpg
ORGANIZER;CN="Feiz e Breizh":MAILTO:contact@feiz.bzh
GEO:47.703625;-2.950358
END:VEVENT
BEGIN:VEVENT
DTSTART;TZID=Europe/Paris:20210925T080000
DTEND;TZID=Europe/Paris:20210925T223000
DTSTAMP:20260423T031025
CREATED:20210629T045119Z
LAST-MODIFIED:20210629T045119Z
UID:10002126-1632556800-1632609000@lesalonbeige.fr
SUMMARY:25 septembre : 20ème pèlerinage Familial de Mont Luzin à Ars
DESCRIPTION:RDV à 11h30 Messe à la chapelle de Saint Joseph de Mont Luzin\npique-nique tiré du sac\ndépart de la colonne du pèlerinage\n22 kms à pied (les familles avec enfants sont les bienvenues)\nle soir cochon grillé pour les 20 ans\nPaf 15 euros par adultes (pour les enfants gratuit)\nvin et eau proposé pour le midi
URL:https://lesalonbeige.fr/evenement/25-septembre-20eme-pelerinage-familial-de-mont-luzin-a-ars/
END:VEVENT
BEGIN:VEVENT
DTSTART;TZID=Europe/Paris:20210925T120000
DTEND;TZID=Europe/Paris:20210925T130000
DTSTAMP:20260423T031025
CREATED:20210804T173045Z
LAST-MODIFIED:20210806T073518Z
UID:10001993-1632571200-1632574800@lesalonbeige.fr
SUMMARY:Manifestation tous les samedis devant la Nonciature à Paris
DESCRIPTION:Rendez-vous à 12h au 14 bis avenue du Président Wilson 75116 Paris.
URL:https://lesalonbeige.fr/evenement/manifestation-tous-les-samedis-devant-la-nonciature-a-paris/2021-09-25/
LOCATION:Nonciature\, 10 avenue du Président Wilson\, Paris\, 75016\, France
CATEGORIES:75 - Paris
ATTACH;FMTTYPE=image/jpeg:https://lesalonbeige.fr/wp-content/uploads/2021/07/b6dea486-ff04-44cb-b5dc-f31d0747d7ac.jpeg
GEO:48.8654193;2.2991488
X-APPLE-STRUCTURED-LOCATION;VALUE=URI;X-ADDRESS=Nonciature 10 avenue du Président Wilson Paris 75016 France;X-APPLE-RADIUS=500;X-TITLE=10 avenue du Président Wilson:geo:2.2991488,48.8654193
END:VEVENT
BEGIN:VEVENT
DTSTART;TZID=Europe/Paris:20210925T143000
DTEND;TZID=Europe/Paris:20210930T203000
DTSTAMP:20260423T031025
CREATED:20210624T102326Z
LAST-MODIFIED:20210624T102326Z
UID:10001959-1632580200-1633033800@lesalonbeige.fr
SUMMARY:Rentrée du cours complet de doctrine catholique du CER
DESCRIPTION:Le Centre d’Etudes Religieuses\, fondé par Jean Daujat et dirigé aujourd’hui par Claude Paulot\, ancien élève de l’Ecole Normale Supérieure\, licencié en théologie\, docteur ès sciences\, organise une formation doctrinale à l’école des Pères de l’Eglise et en particulier de saint Thomas d’Aquin. Ce cours complet de doctrine catholique et de formation spirituelle est donné en trois ans à raison de deux séances de deux heures par mois\, le jeudi soir ou le samedi après-midi. Il est placé sous le patronage de Mgr Aupetit\, Mgr Le Gal\, Mgr Raffin\, Mgr Rey\, R.P. dom de Préville. \nLa participation aux frais est totalement libre.\nLes cours ont lieu au 3 rue de la Trinité 75009 Paris\nLe premier cours de l’année 2021-2022 sera donné le samedi 25 septembre à 14h30 et le jeudi 30 septembre à 20h30.
URL:https://lesalonbeige.fr/evenement/rentree-du-cours-complet-de-doctrine-catholique-du-cer/
LOCATION:rue Albert-de-Lapparent\, 6\, rue Albert-de-Lapparent\, Paris\, 75007\, France
CATEGORIES:75 - Paris
ATTACH;FMTTYPE=image/jpeg:https://lesalonbeige.fr/wp-content/uploads/2021/06/cer-logo-violet2.jpg
ORGANIZER;CN="Centre d'Etudes Religieuses":MAILTO:catholique.cer@gmail.com
GEO:48.8774623;2.3307404
X-APPLE-STRUCTURED-LOCATION;VALUE=URI;X-ADDRESS=rue Albert-de-Lapparent 6 rue Albert-de-Lapparent Paris 75007 France;X-APPLE-RADIUS=500;X-TITLE=6\, rue Albert-de-Lapparent:geo:2.3307404,48.8774623
END:VEVENT
END:VCALENDAR