BEGIN:VCALENDAR
VERSION:2.0
PRODID:-//Le Salon Beige - ECPv5.7.0//NONSGML v1.0//EN
CALSCALE:GREGORIAN
METHOD:PUBLISH
X-WR-CALNAME:Le Salon Beige
X-ORIGINAL-URL:https://www.lesalonbeige.fr
X-WR-CALDESC:évènements pour Le Salon Beige
BEGIN:VTIMEZONE
TZID:Europe/Paris
BEGIN:DAYLIGHT
TZOFFSETFROM:+0100
TZOFFSETTO:+0200
TZNAME:CEST
DTSTART:20210328T010000
END:DAYLIGHT
BEGIN:STANDARD
TZOFFSETFROM:+0200
TZOFFSETTO:+0100
TZNAME:CET
DTSTART:20211031T010000
END:STANDARD
END:VTIMEZONE
BEGIN:VEVENT
DTSTART;VALUE=DATE:20210918
DTEND;VALUE=DATE:20210927
DTSTAMP:20210904T040112
CREATED:20210830T202047Z
LAST-MODIFIED:20210830T202047Z
UID:346179-1631923200-1632700799@www.lesalonbeige.fr
SUMMARY:18 au 26 septembre : festival "Automne Baroque de Bourges"
DESCRIPTION:
URL:https://www.lesalonbeige.fr/evenement/18-au-26-septembre-festival-automne-baroque-de-bourges/
LOCATION:Bourges\, 9 rue Macdonald\, Bourges\, 18000\, France
CATEGORIES:18 - Cher
ATTACH;FMTTYPE=image/jpeg:https://www.lesalonbeige.fr/wp-content/uploads/2021/08/automne-baroque-a-bourges.jpg
GEO:47.0784935;2.4025104
X-APPLE-STRUCTURED-LOCATION;VALUE=URI;X-ADDRESS=Bourges 9 rue Macdonald Bourges 18000 France;X-APPLE-RADIUS=500;X-TITLE=9 rue Macdonald:geo:2.4025104,47.0784935
END:VEVENT
BEGIN:VEVENT
DTSTART;TZID=Europe/Paris:20210920T093000
DTEND;TZID=Europe/Paris:20210920T110000
DTSTAMP:20210904T040112
CREATED:20210702T131615Z
LAST-MODIFIED:20210702T131713Z
UID:343838-1632130200-1632135600@www.lesalonbeige.fr
SUMMARY:Visite de la Sainte Chapelle de Vic-le-Comte
DESCRIPTION:À l’occasion des 500 ans de l’Eglise Saint Pierre dite Sainte Chapelle de Vic-le-Comte des visites commentées gratuite seront réalisées par par Virginie Marchand archiviste aux archives départementales du Puy-de-Dôme.\nDimanche 4 juillet à 10 h 30\, 14 h 30\, 16 h 30 et 21 heures où ce jour-là\, des documents précieux du XVI e siècle seront présentés.\nMercredi 21 juillet et mercredi 11 août\, à 14 h 30 et à 16 heures\, visites familles et jeune public.\nSamedi 19 et dimanche 20 septembre\, à 9 h 30 et à 11 heures\, dans le cadre des Journées du patrimoine 2021.
URL:https://www.lesalonbeige.fr/evenement/visite-de-la-saint-chapelle-de-vic-le-comte/2021-09-20/
LOCATION:Sainte Chapelle de Pic-le-Comte\, 94\, Place de l'Église\, Vic le Comte\, 63270\, France
ATTACH;FMTTYPE=image/jpeg:https://www.lesalonbeige.fr/wp-content/uploads/2021/07/vic-le-comte-sainte-chapelle-570-scaled.jpg
GEO:45.643476;3.243412
X-APPLE-STRUCTURED-LOCATION;VALUE=URI;X-ADDRESS=Sainte Chapelle de Pic-le-Comte 94 Place de l'Église Vic le Comte 63270 France;X-APPLE-RADIUS=500;X-TITLE=94\, Place de l'Église:geo:3.243412,45.643476
END:VEVENT
END:VCALENDAR