BEGIN:VCALENDAR
VERSION:2.0
PRODID:-//Le Salon Beige - ECPv5.7.0//NONSGML v1.0//EN
CALSCALE:GREGORIAN
METHOD:PUBLISH
X-WR-CALNAME:Le Salon Beige
X-ORIGINAL-URL:https://www.lesalonbeige.fr
X-WR-CALDESC:évènements pour Le Salon Beige
BEGIN:VTIMEZONE
TZID:Europe/Paris
BEGIN:DAYLIGHT
TZOFFSETFROM:+0100
TZOFFSETTO:+0200
TZNAME:CEST
DTSTART:20210328T010000
END:DAYLIGHT
BEGIN:STANDARD
TZOFFSETFROM:+0200
TZOFFSETTO:+0100
TZNAME:CET
DTSTART:20211031T010000
END:STANDARD
END:VTIMEZONE
BEGIN:VEVENT
DTSTART;VALUE=DATE:20210616
DTEND;VALUE=DATE:20210920
DTSTAMP:20210904T032555
CREATED:20210629T093032Z
LAST-MODIFIED:20210629T093908Z
UID:343659-1623801600-1632095999@www.lesalonbeige.fr
SUMMARY:16 juin - 19 septembre : Exposition d'art sacré à l'Eglise Saint-André de Lille
DESCRIPTION:Du 16 juin au 19 septembre 2021\, l’église Saint-André de Lille accueille l’exposition « Trésor révélé » à partir des œuvres d’art sacré de deux églises du Vieux-Lille. Une plongée dans le temps des processions à Lille. \nL’exposition a été conçue et réalisée par l’Association des Amis des clochers du Vieux-Lille. Suite à l’inventaire (il s’agit des églises Saint-André et Sainte-Catherine de Lille) l’exposition dévoilera de manière temporaire des objets d’art sacré remarquables du XVIII ème au XX ème siècle. Chasse-reliquaire\, reliquaires\, bannières et vêtement liturgiques. \nEglise Saint André du Vieux-Lille 121 rue Royale\, 59000 Lille Vieux-Lille
URL:https://www.lesalonbeige.fr/evenement/16-juin-19-septembre-exposition-dart-sacre-a-leglise-saint-andre-de-lille/
LOCATION:Eglise Saint André du Vieux-Lille\, 121 rue Royale\, LILLE\, 59000\, France
CATEGORIES:59 - Nord
ATTACH;FMTTYPE=image/png:https://www.lesalonbeige.fr/wp-content/uploads/2021/06/capture-decran-2021-06-29-a-105951.png
GEO:50.6448524;3.054223
X-APPLE-STRUCTURED-LOCATION;VALUE=URI;X-ADDRESS=Eglise Saint André du Vieux-Lille 121 rue Royale LILLE 59000 France;X-APPLE-RADIUS=500;X-TITLE=121 rue Royale:geo:3.054223,50.6448524
END:VEVENT
BEGIN:VEVENT
DTSTART;VALUE=DATE:20210710
DTEND;VALUE=DATE:20210920
DTSTAMP:20210904T032556
CREATED:20210520T174535Z
LAST-MODIFIED:20210520T174535Z
UID:338987-1625875200-1632095999@www.lesalonbeige.fr
SUMMARY:Bollène : Exposition de miracles eucharistiques
DESCRIPTION:
URL:https://www.lesalonbeige.fr/evenement/bollene-exposition-de-miracles-eucharistiques/
LOCATION:Bollène\, chapelle du Saint Sacrement\, Bollène\, 84500\, France
CATEGORIES:84 - Vaucluse
ATTACH;FMTTYPE=image/jpeg:https://www.lesalonbeige.fr/wp-content/uploads/2021/05/affichecarloacutisbollene-scaled.jpg
GEO:44.2820244;4.7482294
X-APPLE-STRUCTURED-LOCATION;VALUE=URI;X-ADDRESS=Bollène chapelle du Saint Sacrement Bollène 84500 France;X-APPLE-RADIUS=500;X-TITLE=chapelle du Saint Sacrement:geo:4.7482294,44.2820244
END:VEVENT
BEGIN:VEVENT
DTSTART;TZID=Europe/Paris:20210804T160000
DTEND;TZID=Europe/Paris:20210915T180000
DTSTAMP:20210904T032556
CREATED:20210810T110421Z
LAST-MODIFIED:20210810T110421Z
UID:345494-1628092800-1631728800@www.lesalonbeige.fr
SUMMARY:Du 4 août au 15 septembre : “Cézanne\, Pictor – Histoire d’une conversion” – Visite guidée Aix en Provence
DESCRIPTION:PRESENTATION de la VISITE GUIDEE:\nXIXème siècle\, la peinture contemporaine est viciée.\nLa France change bientôt de civilisation. L’Académie des Beaux Arts lui trouve une nouvelle histoire et renoue avec l’antique ; les idées se peignent et le réel s’enfuit dans les vapeurs d’absinthe.\nC’est l’histoire d’un peintre qui\, sous la lumière de Provence\, retrouve la vue.\nDe la race des Anciens\, il va décrocher la Sainte Victoire et placer dans les Musées le dépôt de la Beauté.\nPour voir quelque chose\, il nous faut d’abord réapprendre à regarder. Alors Cézanne\, que nous écoutons à travers les rues d’Aix\, nous montre comment regarder la lumière. \nInformations et réservations: http://www.lux-mundi-france.org/
URL:https://www.lesalonbeige.fr/evenement/du-4-aout-au-15-septembre-cezanne-pictor-histoire-dune-conversion-visite-guidee-aix-en-provence/
LOCATION:Aix en Provence\, aix en provence\, 13100\, France
CATEGORIES:13 - Bouches-du-Rhône
ATTACH;FMTTYPE=image/png:https://www.lesalonbeige.fr/wp-content/uploads/2021/08/flyer-jpeg-1.png
GEO:43.5338335;5.509247
END:VEVENT
BEGIN:VEVENT
DTSTART;TZID=Europe/Paris:20210904T080000
DTEND;TZID=Europe/Paris:20210909T170000
DTSTAMP:20210904T032556
CREATED:20210614T145943Z
LAST-MODIFIED:20210614T145943Z
UID:342914-1630742400-1631206800@www.lesalonbeige.fr
SUMMARY:4-9 septembre : L’Italie de saint François avec Odeia
DESCRIPTION:Ce pèlerinage vous propose d’aller sur les pas du saint patron de l’Italie\, saint François d’Assise !\nEntre le lac Trasimène\, la valle de Rieti et Poggio Bustone\, vous découvrirez les ermitages où il aimait se retirer dans des paysages à couper le souffle. D’Assise à Gubbio et Pérouse\, vous vous recueillerez dans les sanctuaires franciscains et profiterez du charme de ces cités pittoresques. \nMonsieur l’abbé Claude Boivin a été ordonné prêtre en 1985. Il est le sous-directeur du séminaire d’Ecône où enseigne l’Écriture sainte\, la liturgie et l’histoire de l’Église. \nParmi les points forts :\n Accompagnement spirituel d’un aumônier\n Messe quotidienne\n Les plus beaux paysages d’Italie
URL:https://www.lesalonbeige.fr/evenement/4-9-septembre-litalie-de-saint-francois-avec-odeia/
LOCATION:Assise\, Italie
ATTACH;FMTTYPE=image/jpeg:https://www.lesalonbeige.fr/wp-content/uploads/2021/06/122518.jpeg
ORGANIZER;CN="Odeia":MAILTO:contact@odeia.fr
GEO:41.87194;12.56738
END:VEVENT
BEGIN:VEVENT
DTSTART;TZID=Europe/Paris:20210904T090000
DTEND;TZID=Europe/Paris:20210905T193000
DTSTAMP:20210904T032556
CREATED:20210810T151605Z
LAST-MODIFIED:20210810T151605Z
UID:345556-1630746000-1630870200@www.lesalonbeige.fr
SUMMARY:Journées Chouannes 4 et 5 Septembre 2021
DESCRIPTION:Ne manquez pas nos 51ème Journées Chouannes. Ces deux jours que nous vous proposons vous permettent de rencontrer de nombreux auteurs\, et conférenciers\, qui toute l’année\, se battent pour vos idées.\nAvec la participation exceptionnelle de Patrick Buisson!\nAu programme : Conférences et tables rondes sur les sujets qui ont fait l’actualité\, dédicaces des auteurs ( livres adulte et jeunesse)\, de nombreux stands d’exposants\, médias\, artisans\, associations. Retrouvez notre programme sans son intégralité sur notre site internet : http://www.chire.fr/A-226277-journees-chouannes-2021-les-4-et-5-septembre.aspx \nUn grand parking sera à votre disposition sur place\, à « La Caillauderie » 86190 Chiré-en-Montreuil. Invitation aux conditions habituelles\, comme chaque année.\n1- Je ne viens pas seul!\n2- Je réserve obligatoirement pour les repas et les navettes\n3- Je covoiture\n4-Je participe: L’organisation de telles festivités est coûteuse\, votre aide et votre générosité seront les bienvenues. Soyez en remerciez par avance.
URL:https://www.lesalonbeige.fr/evenement/journees-chouannes-4-et-5-septembre-2021/
CATEGORIES:86 - Vienne
ATTACH;FMTTYPE=image/jpeg:https://www.lesalonbeige.fr/wp-content/uploads/2021/08/i-grande-41801-journees-chouannes-2021-les-4-et-5-septembrenet.jpg
ORGANIZER;CN="CHIRE%20DPF":MAILTO:contact@chire.fr
END:VEVENT
BEGIN:VEVENT
DTSTART;VALUE=DATE:20210905
DTEND;VALUE=DATE:20210906
DTSTAMP:20210904T032556
CREATED:20210830T173725Z
LAST-MODIFIED:20210830T173725Z
UID:346141-1630800000-1630886399@www.lesalonbeige.fr
SUMMARY:5 septembre : Quand l'enfant se fait attendre
DESCRIPTION:Pèlerinage  des couples en espérance d’enfant à Ste Anne d’Auray.\nMoment de prière\, formation et partage.\nCafé d’accueil dès 09:00 au sanctuaire\, pique-nique tiré du sac.\nN’hésitez pas à vous inscrire !
URL:https://www.lesalonbeige.fr/evenement/5-septembre-quand-lenfant-se-fait-attendre/
LOCATION:Basilique de Sainte Anne d’Auray\, 9 rue de Vannes\, Sainte Anne d'Auray\, 56400\, France
ATTACH;FMTTYPE=image/jpeg:https://www.lesalonbeige.fr/wp-content/uploads/2021/08/quand-lenfant-se-fait-attendre-2021-1-scaled.jpg
GEO:47.7038421;-2.9533651
X-APPLE-STRUCTURED-LOCATION;VALUE=URI;X-ADDRESS=Basilique de Sainte Anne d’Auray 9 rue de Vannes Sainte Anne d'Auray 56400 France;X-APPLE-RADIUS=500;X-TITLE=9 rue de Vannes:geo:-2.9533651,47.7038421
END:VEVENT
BEGIN:VEVENT
DTSTART;TZID=Europe/Paris:20210905T110000
DTEND;TZID=Europe/Paris:20210905T123000
DTSTAMP:20210904T032556
CREATED:20210428T171745Z
LAST-MODIFIED:20210627T125833Z
UID:337767-1630839600-1630845000@www.lesalonbeige.fr
SUMMARY:Messe en forme extraordinaire à Saint-Germain-en-Laye
DESCRIPTION:La prochaine messe sera célébrée dimanche 5 septembre 2021 à 11h00 sur le parvis de la chapelle Saint Louis de l’hôpital de Saint-Germain-en-Laye (accès par la rue Armagis) selon les modalités habituelles. Nous aurons toujours à cœur de prier aux intentions de notre nouvel évêque\, ne doutant pas qu’il saura bientôt et paternellement accéder à notre demande. \nNous aspirons depuis 2007 en conformité avec le motu proprio de Benoît XVI à bénéficier de la célébration par un prêtre bienveillant de la messe traditionnelle chaque dimanche et fête à un horaire compatible avec la vie familiale dans une des églises de Saint-Germain-en-Laye (depuis bien longtemps l’église des Franciscaines avenue Foch\, comme la chapelle de l’hôpital sont inutilisées le dimanche matin).\nRemplis d’une profonde espérance filiale en la nomination de Mgr Crepy\, nous pensons à ces mots du Père Pochet\, ancien prêtre du diocèse de Versailles resté fidèle à la liturgie traditionnelle : « Regardez et prenez en pitié ceux qui ne veulent au fond d’eux-mêmes que vivre en chrétiens fidèles… »\nPS : nous vous invitons à vous conformer aux préconisations sanitaires en vigueur.
URL:https://www.lesalonbeige.fr/evenement/messe-en-forme-extraordinaire-a-saint-germain-en-laye/
LOCATION:Saint-Germain-en-Laye rue Armagis\, rue Armagis\, Saint-Germain-en-Laye\, 78100\, France
ATTACH;FMTTYPE=image/jpeg:https://www.lesalonbeige.fr/wp-content/uploads/2021/04/st-ger-quasi-modo-2021-1.jpg
GEO:48.897921;2.0859883
X-APPLE-STRUCTURED-LOCATION;VALUE=URI;X-ADDRESS=Saint-Germain-en-Laye rue Armagis rue Armagis Saint-Germain-en-Laye 78100 France;X-APPLE-RADIUS=500;X-TITLE=rue Armagis:geo:2.0859883,48.897921
END:VEVENT
END:VCALENDAR