BEGIN:VCALENDAR
VERSION:2.0
PRODID:-//Le Salon Beige - ECPv6.15.18//NONSGML v1.0//EN
CALSCALE:GREGORIAN
METHOD:PUBLISH
X-WR-CALNAME:Le Salon Beige
X-ORIGINAL-URL:https://lesalonbeige.fr
X-WR-CALDESC:Évènements pour Le Salon Beige
REFRESH-INTERVAL;VALUE=DURATION:PT1H
X-Robots-Tag:noindex
X-PUBLISHED-TTL:PT1H
BEGIN:VTIMEZONE
TZID:Europe/Paris
BEGIN:DAYLIGHT
TZOFFSETFROM:+0100
TZOFFSETTO:+0200
TZNAME:CEST
DTSTART:20200329T010000
END:DAYLIGHT
BEGIN:STANDARD
TZOFFSETFROM:+0200
TZOFFSETTO:+0100
TZNAME:CET
DTSTART:20201025T010000
END:STANDARD
BEGIN:DAYLIGHT
TZOFFSETFROM:+0100
TZOFFSETTO:+0200
TZNAME:CEST
DTSTART:20210328T010000
END:DAYLIGHT
BEGIN:STANDARD
TZOFFSETFROM:+0200
TZOFFSETTO:+0100
TZNAME:CET
DTSTART:20211031T010000
END:STANDARD
BEGIN:DAYLIGHT
TZOFFSETFROM:+0100
TZOFFSETTO:+0200
TZNAME:CEST
DTSTART:20220327T010000
END:DAYLIGHT
BEGIN:STANDARD
TZOFFSETFROM:+0200
TZOFFSETTO:+0100
TZNAME:CET
DTSTART:20221030T010000
END:STANDARD
END:VTIMEZONE
BEGIN:VEVENT
DTSTART;VALUE=DATE:20210710
DTEND;VALUE=DATE:20210920
DTSTAMP:20260423T085441
CREATED:20210520T174535Z
LAST-MODIFIED:20210520T174535Z
UID:10002081-1625875200-1632095999@lesalonbeige.fr
SUMMARY:Bollène : Exposition de miracles eucharistiques
DESCRIPTION:
URL:https://lesalonbeige.fr/evenement/bollene-exposition-de-miracles-eucharistiques/
LOCATION:Bollène\, chapelle du Saint Sacrement\, Bollène\, 84500\, France
CATEGORIES:84 - Vaucluse
ATTACH;FMTTYPE=image/jpeg:https://lesalonbeige.fr/wp-content/uploads/2021/05/affichecarloacutisbollene-scaled.jpg
GEO:44.2820244;4.7482294
X-APPLE-STRUCTURED-LOCATION;VALUE=URI;X-ADDRESS=Bollène chapelle du Saint Sacrement Bollène 84500 France;X-APPLE-RADIUS=500;X-TITLE=chapelle du Saint Sacrement:geo:4.7482294,44.2820244
END:VEVENT
BEGIN:VEVENT
DTSTART;TZID=Europe/Paris:20210822T150000
DTEND;TZID=Europe/Paris:20210829T100000
DTSTAMP:20260423T085441
CREATED:20210617T171523Z
LAST-MODIFIED:20210617T171540Z
UID:10002116-1629644400-1630231200@lesalonbeige.fr
SUMMARY:22-29 août : Université d’été de l'AF
DESCRIPTION:10 AXES DE SALUT NATIONAL \n« Face à la crise des ins­ti­tu­tions\, ne faut-il pas ima­gi­ner autre chose que ce qui existe ? »\nDu 22 au 29 août \, Camp de for­ma­tion Maxime Real Del Sarte (CMRDS)\, réser­vé aux étu­diants\, lycéens et jeunes tra­vailleurs (15 – 35 ans). \nBien que l’Action fran­çaise ne croie pas à l’instauration pos­sible d’une « bonne » répu­blique en rai­son des tares inhé­rentes à ce régime\, maintes fois démon­trées\, et qu’elle consi­dère tou­jours que l’instauration d’une monar­chie active soit la pre­mière des prio­ri­tés dans l’intérêt des Fran­çais\, elle ne sau­rait tou­te­fois se dés­in­té­res­ser des élec­tions\, pré­si­den­tielle et légis­la­tives\, qui\, en façon­nant l’équilibre poli­tique des cinq années sui­vantes\, condi­tionnent en grande par­tie l’avenir du pays. \n►L’Action fran­çaise a défi­ni dix axes de salut natio­nal qui sont autant d’axes prio­ri­taires visant à rele­ver le pays. Loin de consti­tuer un pro­gramme élec­to­ral\, dont la constante est de n’être jamais res­pec­té\, ils indiquent les pistes à emprun­ter prio­ri­tai­re­ment par la France pour sor­tir de sa crise non seule­ment éco­no­mique et finan­cière\, mais éga­le­ment et avant tout intel­lec­tuelle et morale. \nAu pro­gramme (pro­vi­soire) : https://www.actionfrancaise.net/evenement/universite-dete-cmrds-2/ \nINFORMATIONS PRATIQUES •\nDate :\nCMRDS du 22 au 29 août 2021\nUDT ouverte à tous ! le 28 août 2021\nLieu :\nChâ­teau d’Ailly\, 42120 Pari­gny\, à 5km de la gare SNCF de Roanne (navettes organisées)
URL:https://lesalonbeige.fr/evenement/22-29-aout-universite-dete-de-laf/
CATEGORIES:42 - Loire
ATTACH;FMTTYPE=image/jpeg:https://lesalonbeige.fr/wp-content/uploads/2021/06/cmrds2021-recto-724x1024-1.jpg
ORGANIZER;CN="La Restauration Nationale":MAILTO:contact@actionfrancaise.net
END:VEVENT
BEGIN:VEVENT
DTSTART;VALUE=DATE:20210823
DTEND;VALUE=DATE:20210828
DTSTAMP:20260423T085441
CREATED:20210505T171932Z
LAST-MODIFIED:20210702T132626Z
UID:10002069-1629676800-1630108799@lesalonbeige.fr
SUMMARY:23-27 août : Retraite de l’Opus Sacerdotale
DESCRIPTION:Pour tous les prêtres\, du 23 au 27 août\, à l’abbaye N-D de Fontgombault (Indre)\, prêchée par le R.P. Laurent-Marie Pocquet du Haut-Jussé\, S.J.M. sur le thème La paternité du prêtre. \nRens. et Insc. : M. l’Abbé François Scrive\, Presbytère\, 13 rue Faubert 95270 Belloy-en-France. Tél. : 01 30 35 70 31 – francois.scrive@wanadoo.fr
URL:https://lesalonbeige.fr/evenement/23-27-aout-retraite-de-lopus-sacerdotale/
LOCATION:Fontgombault\, Fontgombault\, 36220\, France
GEO:46.675799;0.982956
END:VEVENT
BEGIN:VEVENT
DTSTART;VALUE=DATE:20210823
DTEND;VALUE=DATE:20210829
DTSTAMP:20260423T085441
CREATED:20210807T074823Z
LAST-MODIFIED:20210807T074823Z
UID:10001994-1629676800-1630195199@lesalonbeige.fr
SUMMARY:Retraites franciscaine pour couples à Mérigny du 23 au 28 août
DESCRIPTION:Retraites franciscaine pour couples à Mérigny\ndu 23 (12h) au 28 août (14h) \n“La sainteté conjugale ou la sainteté à deux” \nRévision ou découverte des différences hommes-femmes\, de leurs rôles respectifs\, des vertus franciscaines en couple… \nInscription :\n– Couvent Saint François à Morgon : 06 58 25 69 21\n– Mérigny : 02 54 37 40 04
URL:https://lesalonbeige.fr/evenement/retraites-franciscaine-pour-couples-a-merigny-du-23-au-28-aout/
LOCATION:Mérigny\, France
GEO:46.227638;2.213749
END:VEVENT
BEGIN:VEVENT
DTSTART;VALUE=DATE:20210826
DTEND;VALUE=DATE:20210830
DTSTAMP:20260423T085441
CREATED:20210618T064926Z
LAST-MODIFIED:20210618T064926Z
UID:10002122-1629936000-1630281599@lesalonbeige.fr
SUMMARY:26-29 août : session pour couples
DESCRIPTION:48h pour soigner son couple et sa famille » fin août\nLa famille demeure de l’amour et de la miséricorde. \n \n26 au 29 août 2021 au sanctuaire ND du Laus\, session animée par Mgr Livio Melina\, ancien président de l’Institut Jean-Paul II. \nInscription et réservation à l’hôtellerie du sanctuaire 04 92 50 30 73\ndu lundi au vendredi de 9h à 17h reservation@notredamedulaus.com \nThèmes des conférences : \n1. Contempler. \nUne vision de l’amour : Le plan de Dieu pour le mariage et la famille \n          Vers le “principe \n          L’image et la ressemblance \n          Les expériences originales dont le corps est témoin \n          Le drame du péché et la laborieuse rédemption du corps \n          Le destin du corps \n\n2. Célébrer. \nLe sacrement du mariage : “Je promets de t’aimer et de t’honorer…” \n          Le Grand Mystère \n          Une promesse possible qui configure toute la vie \n          Le contenu de la promesse conjugale \n          Un lien qui permet d’être libre \n          La grâce du sacrement \n          La charité conjugale \n\n3. Vivre.  \nL’aventure d’une vie : Devenir le narrateur de sa propre histoire d’amour. \n          Sa propre histoire dans la grande histoire de Dieu \n          L’image de Dieu dans le temps : le drame de la liberté \n          Construire une maison \n          « Enseigner à aimer » \n          La communauté et les pratiques de la bonne vie : une “minorité créative”. \n\n4. Le pardon dans la famille \nLe sacrement qui régénère la personne\, le couple et les relations \n          La banalisation du pardon et les dimensions de l’offense \n          Un nouveau départ : une parole non humaine \n          Un pardon qui régénère \n          Régénération et réconciliation dans le couple et la famille
URL:https://lesalonbeige.fr/evenement/26-29-aout-session-pour-couples/
LOCATION:Notre-Dame du Laus\, Saint-Étienne-le-Laus\, 05130\, France
CATEGORIES:05 - Hautes-Alpes
GEO:44.5015349;6.162934
END:VEVENT
BEGIN:VEVENT
DTSTART;TZID=Europe/Paris:20210826T113000
DTEND;TZID=Europe/Paris:20210829T153000
DTSTAMP:20260423T085441
CREATED:20210614T110303Z
LAST-MODIFIED:20210614T110303Z
UID:10002105-1629977400-1630251000@lesalonbeige.fr
SUMMARY:Du 26 au 29 août : retraite ESTO VIR - sois un homme
DESCRIPTION:Aux hommes modernes qui doivent être pourvus d’équilibre mental\, de solidité nerveuse\, de jugement\, de courage moral\, et de résistance à la fatigue : \nRetraite spirituelle en plein air. Pour hommes (à partir de 18 ans) \nRaid de quatre jours en autonomie autour du lac d’Annecy. \nEffort physique et formation spirituelle\, pour restaurer l’homme. \nEsto vir… Agissez en homme de cœur\, et combattons pour notre peuple et pour la cité de notre Dieu ; et le Seigneur ordonnera de tout comme il lui plaira. (2Sm 10\, 12)
URL:https://lesalonbeige.fr/evenement/du-26-au-29-aout-retraite-esto-vir-sois-un-homme/
LOCATION:lac d’Annecy
ATTACH;FMTTYPE=image/jpeg:https://lesalonbeige.fr/wp-content/uploads/2021/06/esto-vir-juillet-et-aout-214.jpg
GEO:46.227638;2.213749
END:VEVENT
END:VCALENDAR