BEGIN:VCALENDAR
VERSION:2.0
PRODID:-//Le Salon Beige - ECPv6.15.18//NONSGML v1.0//EN
CALSCALE:GREGORIAN
METHOD:PUBLISH
X-WR-CALNAME:Le Salon Beige
X-ORIGINAL-URL:https://lesalonbeige.fr
X-WR-CALDESC:Évènements pour Le Salon Beige
REFRESH-INTERVAL;VALUE=DURATION:PT1H
X-Robots-Tag:noindex
X-PUBLISHED-TTL:PT1H
BEGIN:VTIMEZONE
TZID:Europe/Paris
BEGIN:DAYLIGHT
TZOFFSETFROM:+0100
TZOFFSETTO:+0200
TZNAME:CEST
DTSTART:20200329T010000
END:DAYLIGHT
BEGIN:STANDARD
TZOFFSETFROM:+0200
TZOFFSETTO:+0100
TZNAME:CET
DTSTART:20201025T010000
END:STANDARD
BEGIN:DAYLIGHT
TZOFFSETFROM:+0100
TZOFFSETTO:+0200
TZNAME:CEST
DTSTART:20210328T010000
END:DAYLIGHT
BEGIN:STANDARD
TZOFFSETFROM:+0200
TZOFFSETTO:+0100
TZNAME:CET
DTSTART:20211031T010000
END:STANDARD
BEGIN:DAYLIGHT
TZOFFSETFROM:+0100
TZOFFSETTO:+0200
TZNAME:CEST
DTSTART:20220327T010000
END:DAYLIGHT
BEGIN:STANDARD
TZOFFSETFROM:+0200
TZOFFSETTO:+0100
TZNAME:CET
DTSTART:20221030T010000
END:STANDARD
END:VTIMEZONE
BEGIN:VEVENT
DTSTART;VALUE=DATE:20210710
DTEND;VALUE=DATE:20210920
DTSTAMP:20260423T102235
CREATED:20210520T174535Z
LAST-MODIFIED:20210520T174535Z
UID:10002081-1625875200-1632095999@lesalonbeige.fr
SUMMARY:Bollène : Exposition de miracles eucharistiques
DESCRIPTION:
URL:https://lesalonbeige.fr/evenement/bollene-exposition-de-miracles-eucharistiques/
LOCATION:Bollène\, chapelle du Saint Sacrement\, Bollène\, 84500\, France
CATEGORIES:84 - Vaucluse
ATTACH;FMTTYPE=image/jpeg:https://lesalonbeige.fr/wp-content/uploads/2021/05/affichecarloacutisbollene-scaled.jpg
GEO:44.2820244;4.7482294
X-APPLE-STRUCTURED-LOCATION;VALUE=URI;X-ADDRESS=Bollène chapelle du Saint Sacrement Bollène 84500 France;X-APPLE-RADIUS=500;X-TITLE=chapelle du Saint Sacrement:geo:4.7482294,44.2820244
END:VEVENT
BEGIN:VEVENT
DTSTART;TZID=Europe/Paris:20210809T140000
DTEND;TZID=Europe/Paris:20210814T183000
DTSTAMP:20260423T102235
CREATED:20210226T175214Z
LAST-MODIFIED:20210502T203736Z
UID:10001969-1628517600-1628965800@lesalonbeige.fr
SUMMARY:24e session grégorienne été 2021
DESCRIPTION:Session d’approfondissement dans la connaissance et l’exécution du chant grégorien.\nL’esprit de prière\, âme du chant grégorien\, est l’objet premier de cette session.\nThèmes abordés :\n– l’unité et la clarté du chant choral\n– l’art du rythme\n– la modalité\n– la sémiologie\n– la (re)découverte de pièces inconnues du répertoire. \nLa session s’adresse à tous les hommes ou jeunes gens (dont la voix a mué)\, désireux de travailler à la gloire du Bon Dieu dans le chant grégorien\, partie intégrante de la liturgie.\nNous travaillerons particulièrement cette année l’inclusion des jeunes voix dans les chorales\, la consolidation des chorales existantes et l’approfondissement chez les anciens. \nNotre référence est ce qu’il est convenu de nommer la méthode de Solesmes\, élaborée sous l’impulsion de Dom Guéranger\, mise en œuvre par Dom Mocquereau et Dom Gajard\, appuyée par saint Pie X. \nInscription ici : https://docs.google.com/forms/d/e/1FAIpQLScD05lAnu7jyb12Ess2CpTtSVCX3Tod2go3kvD4GVTnz5t8mA/viewform?usp=sf_link \nVoir le dépliant : https://sendeyo.com/updownload/file/script/73d499531177c04bd6e7a9ad281b80f5.pdf
URL:https://lesalonbeige.fr/evenement/aout-session-gregorienne-ete-2021/
LOCATION:Maison Saint Jean-Baptiste\, 3 allée de la sérénité\, Saint-Maixant\, 33490\, France
CATEGORIES:33 - Gironde
ATTACH;FMTTYPE=image/jpeg:https://lesalonbeige.fr/wp-content/uploads/2021/02/basilique-saint-martin-daime.jpg
ORGANIZER;CN="Maison Saint-Jean-Baptsite &amp%3Bamp%3B Capella Luscinia":MAILTO:koenraadmoreau@gmail.com
GEO:44.5672662;-0.2369915
X-APPLE-STRUCTURED-LOCATION;VALUE=URI;X-ADDRESS=Maison Saint Jean-Baptiste 3 allée de la sérénité Saint-Maixant 33490 France;X-APPLE-RADIUS=500;X-TITLE=3 allée de la sérénité:geo:-0.2369915,44.5672662
END:VEVENT
BEGIN:VEVENT
DTSTART;TZID=Europe/Paris:20210814T120000
DTEND;TZID=Europe/Paris:20210814T130000
DTSTAMP:20260423T102235
CREATED:20210804T173045Z
LAST-MODIFIED:20210806T073518Z
UID:10001987-1628942400-1628946000@lesalonbeige.fr
SUMMARY:Manifestation tous les samedis devant la Nonciature à Paris
DESCRIPTION:Rendez-vous à 12h au 14 bis avenue du Président Wilson 75116 Paris.
URL:https://lesalonbeige.fr/evenement/manifestation-tous-les-samedis-devant-la-nonciature-a-paris/2021-08-14/
LOCATION:Nonciature\, 10 avenue du Président Wilson\, Paris\, 75016\, France
CATEGORIES:75 - Paris
ATTACH;FMTTYPE=image/jpeg:https://lesalonbeige.fr/wp-content/uploads/2021/07/b6dea486-ff04-44cb-b5dc-f31d0747d7ac.jpeg
GEO:48.8654193;2.2991488
X-APPLE-STRUCTURED-LOCATION;VALUE=URI;X-ADDRESS=Nonciature 10 avenue du Président Wilson Paris 75016 France;X-APPLE-RADIUS=500;X-TITLE=10 avenue du Président Wilson:geo:2.2991488,48.8654193
END:VEVENT
BEGIN:VEVENT
DTSTART;TZID=Europe/Paris:20210814T140000
DTEND;TZID=Europe/Paris:20210814T160000
DTSTAMP:20260423T102235
CREATED:20210628T052511Z
LAST-MODIFIED:20210628T052511Z
UID:10001968-1628949600-1628956800@lesalonbeige.fr
SUMMARY:14 août : Rosaire mensuel pour la France à Toulouse
DESCRIPTION:Le Groupe de Prière Toulousain “ Saint Louis de France”\nvous invite à\nun Rosaire mensuel pour la France \nle Samedi 14 Août 2021 de 14h00 à 16h00\, \nen l’église Notre-Dame de La Dalbade de Toulouse. \n« France ! Qu’as-tu fait des promesses de ton baptême ? »\nSaint Jean-Paul II\, au Bourget-Paris en 1980. \nMessage de Notre-Dame à L’Ile-Bouchard (diocèse de Tours) :\nDès le 8 décembre 1947\, premier jour de sa présence en l’église Saint-Gilles\, la Belle Dame fait cette demande :\n“Dites aux petits enfants de prier pour la France\, car elle en a grand besoin”.\nLe lendemain\, elle précise aux fillettes : “Priez pour la France qui\, ces jours-ci\, est en grand danger. ”\nEt quand on lui demande des miracles\, à deux reprises elle répond : “Je ne suis pas venue ici pour faire des miracles\, mais pour vous dire de prier pour la France.”\nC’est à cette première intention que Marie demande aux enfants de prier\, les accompagnant jour après jour dans une véritable éducation à la prière.
URL:https://lesalonbeige.fr/evenement/14-aout-rosaire-mensuel-pour-la-france-a-toulouse/
LOCATION:Paroisse Notre-Dame de La Dalbade à Toulouse\, Rue de La Dalbade\, Toulouse\, 31000\, France
CATEGORIES:31 - Haute-Garonne
ORGANIZER;CN="Groupe de pri&egrave%3Bre toulousain Saint-Louis-de-France.":MAILTO:groupesaintlouisdefrance@gmail.com
GEO:43.596442;1.4424971
X-APPLE-STRUCTURED-LOCATION;VALUE=URI;X-ADDRESS=Paroisse Notre-Dame de La Dalbade à Toulouse Rue de La Dalbade Toulouse 31000 France;X-APPLE-RADIUS=500;X-TITLE=Rue de La Dalbade:geo:1.4424971,43.596442
END:VEVENT
END:VCALENDAR