BEGIN:VCALENDAR
VERSION:2.0
PRODID:-//Le Salon Beige - ECPv5.7.0//NONSGML v1.0//EN
CALSCALE:GREGORIAN
METHOD:PUBLISH
X-WR-CALNAME:Le Salon Beige
X-ORIGINAL-URL:https://www.lesalonbeige.fr
X-WR-CALDESC:évènements pour Le Salon Beige
BEGIN:VTIMEZONE
TZID:Europe/Paris
BEGIN:DAYLIGHT
TZOFFSETFROM:+0100
TZOFFSETTO:+0200
TZNAME:CEST
DTSTART:20210328T010000
END:DAYLIGHT
BEGIN:STANDARD
TZOFFSETFROM:+0200
TZOFFSETTO:+0100
TZNAME:CET
DTSTART:20211031T010000
END:STANDARD
END:VTIMEZONE
BEGIN:VEVENT
DTSTART;TZID=Europe/Paris:20210904T100000
DTEND;TZID=Europe/Paris:20210904T120000
DTSTAMP:20210904T040108
CREATED:20210901T214729Z
LAST-MODIFIED:20210901T214729Z
UID:346253-1630749600-1630756800@www.lesalonbeige.fr
SUMMARY:Rosaire pour la France - samedi 4 septembre - 10h - Ars-sur-Moselle et Metz-Vallières
DESCRIPTION:le prochain Rosaire pour la France aura lieu samedi 4 septembre à 10h à l’église Saint-Martin d’Ars-sur-Moselle et à l’église Sainte-Lucie de Metz-Vallières.
URL:https://www.lesalonbeige.fr/evenement/rosaire-pour-la-france-samedi-4-septembre-10h-ars-sur-moselle-et-metz-vallieres/
LOCATION:Eglise Saint Martin d’Ars-sur-Moselle\, rue Jeanne d'Arc\, Ars-sur-Moselle\, 57130\, France
CATEGORIES:57 - Moselle
ATTACH;FMTTYPE=image/jpeg:https://www.lesalonbeige.fr/wp-content/uploads/2021/09/09-rosaire-france-septembre-2021.jpg
GEO:49.0772907;6.0780337
X-APPLE-STRUCTURED-LOCATION;VALUE=URI;X-ADDRESS=Eglise Saint Martin d’Ars-sur-Moselle rue Jeanne d'Arc Ars-sur-Moselle 57130 France;X-APPLE-RADIUS=500;X-TITLE=rue Jeanne d'Arc:geo:6.0780337,49.0772907
END:VEVENT
END:VCALENDAR