BEGIN:VCALENDAR
VERSION:2.0
PRODID:-//Le Salon Beige - ECPv6.15.18//NONSGML v1.0//EN
CALSCALE:GREGORIAN
METHOD:PUBLISH
X-WR-CALNAME:Le Salon Beige
X-ORIGINAL-URL:https://lesalonbeige.fr
X-WR-CALDESC:Évènements pour Le Salon Beige
REFRESH-INTERVAL;VALUE=DURATION:PT1H
X-Robots-Tag:noindex
X-PUBLISHED-TTL:PT1H
BEGIN:VTIMEZONE
TZID:Europe/Paris
BEGIN:DAYLIGHT
TZOFFSETFROM:+0100
TZOFFSETTO:+0200
TZNAME:CEST
DTSTART:20200329T010000
END:DAYLIGHT
BEGIN:STANDARD
TZOFFSETFROM:+0200
TZOFFSETTO:+0100
TZNAME:CET
DTSTART:20201025T010000
END:STANDARD
BEGIN:DAYLIGHT
TZOFFSETFROM:+0100
TZOFFSETTO:+0200
TZNAME:CEST
DTSTART:20210328T010000
END:DAYLIGHT
BEGIN:STANDARD
TZOFFSETFROM:+0200
TZOFFSETTO:+0100
TZNAME:CET
DTSTART:20211031T010000
END:STANDARD
BEGIN:DAYLIGHT
TZOFFSETFROM:+0100
TZOFFSETTO:+0200
TZNAME:CEST
DTSTART:20220327T010000
END:DAYLIGHT
BEGIN:STANDARD
TZOFFSETFROM:+0200
TZOFFSETTO:+0100
TZNAME:CET
DTSTART:20221030T010000
END:STANDARD
END:VTIMEZONE
BEGIN:VEVENT
DTSTART;TZID=Europe/Paris:20210821T200000
DTEND;TZID=Europe/Paris:20210821T213000
DTSTAMP:20260423T034402
CREATED:20210716T110813Z
LAST-MODIFIED:20210716T110813Z
UID:344417-1629576000-1629581400@lesalonbeige.fr
SUMMARY:Concert de l'Académie Musicale de Liesse à Vendrennes (85) le 21 août
DESCRIPTION:L’Académie Musicale de Liesse part en tournée dans l’Ouest en août.\nVenez assister à leur concert à Vendrennes\nLe Samedi 21 août à 20h\nConcert extérieur à La Noue \nTous nos concerts sont à entrée gratuite! \nAu programme\, Extraits du Messie de Haendel\, Haydn\, et autres œuvres sacrées….”
URL:https://lesalonbeige.fr/evenement/concert-de-lacademie-musicale-de-liesse-a-vendrennes-85-le-21-aout/
LOCATION:Vendrennes\, La Noue\, Vendrennes\, 02350\, France
CATEGORIES:85 - Vendée
ATTACH;FMTTYPE=image/jpeg:https://lesalonbeige.fr/wp-content/uploads/2021/07/2021-tournee-dete-1.jpg
ORGANIZER;CN="Acad%C3%A9mie Musicale de Liesse":MAILTO:academiemusicaledeliesse@gmail.com
GEO:46.8326769;-1.129426
X-APPLE-STRUCTURED-LOCATION;VALUE=URI;X-ADDRESS=Vendrennes La Noue Vendrennes 02350 France;X-APPLE-RADIUS=500;X-TITLE=La Noue:geo:-1.129426,46.8326769
END:VEVENT
END:VCALENDAR