BEGIN:VCALENDAR
VERSION:2.0
PRODID:-//Le Salon Beige - ECPv6.15.18//NONSGML v1.0//EN
CALSCALE:GREGORIAN
METHOD:PUBLISH
X-WR-CALNAME:Le Salon Beige
X-ORIGINAL-URL:https://lesalonbeige.fr
X-WR-CALDESC:Évènements pour Le Salon Beige
REFRESH-INTERVAL;VALUE=DURATION:PT1H
X-Robots-Tag:noindex
X-PUBLISHED-TTL:PT1H
BEGIN:VTIMEZONE
TZID:Europe/Paris
BEGIN:STANDARD
TZOFFSETFROM:+0100
TZOFFSETTO:+0100
TZNAME:CET
DTSTART:19690101T000000
END:STANDARD
END:VTIMEZONE
BEGIN:VEVENT
DTSTART;TZID=Europe/Paris:20260423T061204
DTEND;TZID=Europe/Paris:20260423T061204
DTSTAMP:20260423T061204
CREATED:20210331T151352Z
LAST-MODIFIED:20210331T151352Z
UID:336435-0-0@lesalonbeige.fr
SUMMARY:Concert de la Semaine Sainte
DESCRIPTION:L’Académie Musicale de Liesse est heureuse de pouvoir accompagner les chrétiens à l’occasion de la Semaine Sainte grâce au concert qui sera retransmis en direct de la Basilique Notre-Dame de Liesse ce mercredi 31 mars 2021 à 18h30 via la page Facebook de l’Académie Musicale ( https://fr-fr.facebook.com/academiemusicaledeliesse/ ).  \nCe concert\, unique à plus d’un titre\, est aussi un temps de prière. A la veille du Triduum Pascal célébré par les chrétiens du monde entier\, les 73 Académiciens et leurs chefs de chœurs vous proposent de revivre la Semaine de la Passion. Des œuvres aussi célèbres que l’ Ave Verum Corpus Natum de Mozart ou des extraits du Messie de Haendel alterneront avec des passages des Saintes Ecritures : elles permettront d’accompagner Notre Seigneur dans les dernières heures de sa vie terrestre.  \nAlors que la chrétienté et le monde de la culture sont si malmenés\, c’est un véritable défi que relèvent les Chœurs de garçons de l’Académie Musicale avec beaucoup d’ardeur : celui d’offrir un concert de qualité au plus grand nombre sans pouvoir accueillir de public dans la Basilique. C’est pour eux\, une très grande joie et un honneur d’inviter tous ceux qui le souhaitent à les rejoindre grâce à cette retransmission en live et grâce à la prière.  \nSI vous souhaitez soutenir cette initiative : n’hésitez pas à la diffuser largement et n’oubliez pas l’invitation qui vous est faite !
URL:https://lesalonbeige.fr/evenement/concert-de-la-semaine-sainte/
LOCATION:Basilique Notre-Dame de Liesse\, Liesse Notre Dame\, 02350\, France
ATTACH;FMTTYPE=image/jpeg:https://lesalonbeige.fr/wp-content/uploads/2021/03/20210331-concert-de-la-semaine-sainte-vf-scaled.jpg
ORGANIZER;CN="Acad%C3%A9mie Musicale de Liesse":MAILTO:academiemusicaledeliesse@gmail.com
GEO:49.609751;3.8043
END:VEVENT
END:VCALENDAR