BEGIN:VCALENDAR
VERSION:2.0
PRODID:-//Le Salon Beige - ECPv6.15.18//NONSGML v1.0//EN
CALSCALE:GREGORIAN
METHOD:PUBLISH
X-WR-CALNAME:Le Salon Beige
X-ORIGINAL-URL:https://lesalonbeige.fr
X-WR-CALDESC:Évènements pour Le Salon Beige
REFRESH-INTERVAL;VALUE=DURATION:PT1H
X-Robots-Tag:noindex
X-PUBLISHED-TTL:PT1H
BEGIN:VTIMEZONE
TZID:Europe/Paris
BEGIN:DAYLIGHT
TZOFFSETFROM:+0100
TZOFFSETTO:+0200
TZNAME:CEST
DTSTART:20200329T010000
END:DAYLIGHT
BEGIN:STANDARD
TZOFFSETFROM:+0200
TZOFFSETTO:+0100
TZNAME:CET
DTSTART:20201025T010000
END:STANDARD
BEGIN:DAYLIGHT
TZOFFSETFROM:+0100
TZOFFSETTO:+0200
TZNAME:CEST
DTSTART:20210328T010000
END:DAYLIGHT
BEGIN:STANDARD
TZOFFSETFROM:+0200
TZOFFSETTO:+0100
TZNAME:CET
DTSTART:20211031T010000
END:STANDARD
BEGIN:DAYLIGHT
TZOFFSETFROM:+0100
TZOFFSETTO:+0200
TZNAME:CEST
DTSTART:20220327T010000
END:DAYLIGHT
BEGIN:STANDARD
TZOFFSETFROM:+0200
TZOFFSETTO:+0100
TZNAME:CET
DTSTART:20221030T010000
END:STANDARD
END:VTIMEZONE
BEGIN:VEVENT
DTSTART;VALUE=DATE:20210705
DTEND;VALUE=DATE:20210731
DTSTAMP:20260423T080452
CREATED:20210326T155457Z
LAST-MODIFIED:20210326T155457Z
UID:336154-1625443200-1627689599@lesalonbeige.fr
SUMMARY:Camps et colonies 2021 dans l'esprit de saint Jean  Bosco avec l'Institut du Christ Roi Souverain Prêtre
DESCRIPTION:Renseignements et inscriptions en ligne sur https://icrspfrance.fr/vacances/\n\nGarçons et filles de tous âges trouveront le camp qui leur est adapté (réductions possibles pour les familles qui en font la demande) :\n\nPour les Garçons de 8 à 12 ans :\n– À Baladou\, près de Rocamadour\, dans le Quercy\, colonie Saint-Dominique-Savio du 10 au 23 juillet 2021 (260 €)\n– À La Molière\, près de Rennes\, en Bretagne\, colonie Saint-François-d’Assise du 10 au 23 juillet 2021 (260 €)\n\nPour les Garçons de 12 à 17 ans :\n– À Mortain\, près du Mont-Saint-Michel\, en Normandie\, le camp-vélo Saint-Joseph du 10 au 23 juillet 2021 (290 €)\n\nPour les Filles de 10 à 17 ans :\n– Chez les Sœurs Adoratrices\, au Noirmont (dans le Jura\, à la frontière suisse)\, colonie musicale Sainte-Cécile du 5 au 17 juillet 2021 (270 €)\n\nPour les Filles de 8 à 12 ans :\n– Chez les Sœurs Adoratrices\, au Noirmont (dans le Jura\, à la frontière suisse)\, colonie Vénérable Anne-de-Guigné du 21 au 30 juillet 2021 (230 €)
URL:https://lesalonbeige.fr/evenement/camps-et-colonies-2021-dans-lesprit-de-saint-jean-bosco-avec-linstitut-du-christ-roi-souverain-pretre/
ATTACH;FMTTYPE=image/png:https://lesalonbeige.fr/wp-content/uploads/2021/03/capture-decran-2021-03-26-a-165421.png
END:VEVENT
END:VCALENDAR