BEGIN:VCALENDAR
VERSION:2.0
PRODID:-//Le Salon Beige - ECPv5.7.0//NONSGML v1.0//EN
CALSCALE:GREGORIAN
METHOD:PUBLISH
X-WR-CALNAME:Le Salon Beige
X-ORIGINAL-URL:https://www.lesalonbeige.fr
X-WR-CALDESC:évènements pour Le Salon Beige
BEGIN:VTIMEZONE
TZID:Europe/Paris
BEGIN:DAYLIGHT
TZOFFSETFROM:+0100
TZOFFSETTO:+0200
TZNAME:CEST
DTSTART:20210328T010000
END:DAYLIGHT
BEGIN:STANDARD
TZOFFSETFROM:+0200
TZOFFSETTO:+0100
TZNAME:CET
DTSTART:20211031T010000
END:STANDARD
END:VTIMEZONE
BEGIN:VEVENT
DTSTART;TZID=Europe/Paris:20210925T080000
DTEND;TZID=Europe/Paris:20210925T223000
DTSTAMP:20210904T030908
CREATED:20210629T045119Z
LAST-MODIFIED:20210629T045119Z
UID:343628-1632556800-1632609000@www.lesalonbeige.fr
SUMMARY:25 septembre : 20ème pèlerinage Familial de Mont Luzin à Ars
DESCRIPTION:RDV à 11h30 Messe à la chapelle de Saint Joseph de Mont Luzin\npique-nique tiré du sac\ndépart de la colonne du pèlerinage\n22 kms à pied (les familles avec enfants sont les bienvenues)\nle soir cochon grillé pour les 20 ans\nPaf 15 euros par adultes (pour les enfants gratuit)\nvin et eau proposé pour le midi
URL:https://www.lesalonbeige.fr/evenement/25-septembre-20eme-pelerinage-familial-de-mont-luzin-a-ars/
END:VEVENT
END:VCALENDAR