BEGIN:VCALENDAR
VERSION:2.0
PRODID:-//Le Salon Beige - ECPv6.15.18//NONSGML v1.0//EN
CALSCALE:GREGORIAN
METHOD:PUBLISH
X-WR-CALNAME:Le Salon Beige
X-ORIGINAL-URL:https://lesalonbeige.fr
X-WR-CALDESC:Évènements pour Le Salon Beige
REFRESH-INTERVAL;VALUE=DURATION:PT1H
X-Robots-Tag:noindex
X-PUBLISHED-TTL:PT1H
BEGIN:VTIMEZONE
TZID:Europe/Paris
BEGIN:DAYLIGHT
TZOFFSETFROM:+0100
TZOFFSETTO:+0200
TZNAME:CEST
DTSTART:20200329T010000
END:DAYLIGHT
BEGIN:STANDARD
TZOFFSETFROM:+0200
TZOFFSETTO:+0100
TZNAME:CET
DTSTART:20201025T010000
END:STANDARD
BEGIN:DAYLIGHT
TZOFFSETFROM:+0100
TZOFFSETTO:+0200
TZNAME:CEST
DTSTART:20210328T010000
END:DAYLIGHT
BEGIN:STANDARD
TZOFFSETFROM:+0200
TZOFFSETTO:+0100
TZNAME:CET
DTSTART:20211031T010000
END:STANDARD
BEGIN:DAYLIGHT
TZOFFSETFROM:+0100
TZOFFSETTO:+0200
TZNAME:CEST
DTSTART:20220327T010000
END:DAYLIGHT
BEGIN:STANDARD
TZOFFSETFROM:+0200
TZOFFSETTO:+0100
TZNAME:CET
DTSTART:20221030T010000
END:STANDARD
END:VTIMEZONE
BEGIN:VEVENT
DTSTART;VALUE=DATE:20210817
DTEND;VALUE=DATE:20210824
DTSTAMP:20260423T050219
CREATED:20210508T164721Z
LAST-MODIFIED:20210508T164721Z
UID:338399-1629158400-1629763199@lesalonbeige.fr
SUMMARY:17-23 août : Retraite pour jeunes filles à l'Abbaye Notre-Dame de l’Annonciation
DESCRIPTION:Retraite spirituelle pour jeunes filles de 17 à 29 ans\, prêchée à l’Abbaye Notre-Dame de l’Annonciation du 17 au 23 août 2021. \nConférences\, ofﬁces en grégorien (forme extraordinaire)\, promenades\, entretiens avec moines et moniales… \nRenseignements et inscriptions : Abbaye Notre-Dame de l’Annonciation – 750 chemin des Ambrosis – 84330 Le Barroux -Téléphone : 04 90 65 29 29.
URL:https://lesalonbeige.fr/evenement/17-23-aout-retraite-pour-jeunes-filles-a-labbaye-notre-dame-de-lannonciation/
LOCATION:Abbaye Notre-Dame de l’Annonciation\, 750 chemin des Ambrosis\, Le Barroux\, 84330\, France
CATEGORIES:84 - Vaucluse
ATTACH;FMTTYPE=image/jpeg:https://lesalonbeige.fr/wp-content/uploads/2021/05/annon.jpg
GEO:44.1562993;5.1190552
X-APPLE-STRUCTURED-LOCATION;VALUE=URI;X-ADDRESS=Abbaye Notre-Dame de l’Annonciation 750 chemin des Ambrosis Le Barroux 84330 France;X-APPLE-RADIUS=500;X-TITLE=750 chemin des Ambrosis:geo:5.1190552,44.1562993
END:VEVENT
END:VCALENDAR