BEGIN:VCALENDAR
VERSION:2.0
PRODID:-//Le Salon Beige - ECPv6.15.18//NONSGML v1.0//EN
CALSCALE:GREGORIAN
METHOD:PUBLISH
X-WR-CALNAME:Le Salon Beige
X-ORIGINAL-URL:https://lesalonbeige.fr
X-WR-CALDESC:Évènements pour Le Salon Beige
REFRESH-INTERVAL;VALUE=DURATION:PT1H
X-Robots-Tag:noindex
X-PUBLISHED-TTL:PT1H
BEGIN:VTIMEZONE
TZID:Europe/Paris
BEGIN:DAYLIGHT
TZOFFSETFROM:+0100
TZOFFSETTO:+0200
TZNAME:CEST
DTSTART:20200329T010000
END:DAYLIGHT
BEGIN:STANDARD
TZOFFSETFROM:+0200
TZOFFSETTO:+0100
TZNAME:CET
DTSTART:20201025T010000
END:STANDARD
BEGIN:DAYLIGHT
TZOFFSETFROM:+0100
TZOFFSETTO:+0200
TZNAME:CEST
DTSTART:20210328T010000
END:DAYLIGHT
BEGIN:STANDARD
TZOFFSETFROM:+0200
TZOFFSETTO:+0100
TZNAME:CET
DTSTART:20211031T010000
END:STANDARD
BEGIN:DAYLIGHT
TZOFFSETFROM:+0100
TZOFFSETTO:+0200
TZNAME:CEST
DTSTART:20220327T010000
END:DAYLIGHT
BEGIN:STANDARD
TZOFFSETFROM:+0200
TZOFFSETTO:+0100
TZNAME:CET
DTSTART:20221030T010000
END:STANDARD
END:VTIMEZONE
BEGIN:VEVENT
DTSTART;TZID=Europe/Paris:20210916T203000
DTEND;TZID=Europe/Paris:20210916T230000
DTSTAMP:20260423T034044
CREATED:20210830T173415Z
LAST-MODIFIED:20210830T173415Z
UID:346136-1631824200-1631833200@lesalonbeige.fr
SUMMARY:16 septembre : « Quels nouveaux modes de vie pour les chrétiens ? Développer des oasis de chrétienté »
DESCRIPTION:« Quels nouveaux modes de vie pour les chrétiens ? Développer des oasis de chrétienté » avec Damien Thomas\, le jeudi 16 septembre à 20h30 \nLe Christ appelle ses disciples à : « être dans le monde\, sans être du monde ». Saint Paul\, dans ses épîtres\, appelle les fidèles à vivre selon l’Evangile et à se regrouper. Depuis toujours l’Eglise propose à ses fidèles une vie particulière. En son temps\, le Cardinal Lustiger appelait les catholiques à développer un nouvel art de vivre. Mgr Eric de Moulins-Beaufort déclarait dans La Vie en septembre 2019 « assumons d’avoir une vie différente ». Benoît XVI appelait les chrétiens à être une minorité créative dans ce monde devenu hostile ou indifférent à la foi. \nLa crise sanitaire est venue percuter de plein fouet nos façons de vivre et certains ont déjà quitté les grandes villes\, ainsi l’heure est venue de nous remettre en question. \nCette conférence est l’occasion de prendre du recul sur nos modes de vie actuels\, de revenir sur ce qui se faisait dans le passé mais surtout de comprendre pourquoi\, aujourd’hui\, les chrétiens doivent se rassembler. Il s’agit de proposer aux chrétiens de vivre en proximité pour se fortifier dans la foi et ainsi entrer dans une dynamique missionnaire. \nDamien Thomas est associé et co-fondateur de Monasphère\, une entreprise créée début 2021 qui veut favoriser la création d’oasis de chrétienté en France\, à proximité des lieux spirituels de notre pays (monastères\, abbayes\, sanctuaires…) situés en zone extra-urbaine en développant des projets immobiliers et en mettant les personnes en contact. \nRendez-vous le jeudi 16 septembre 2021 à 20h30 à la salle 15 de l’Espace Montcalm\, Maison du Diocèse – 55\, rue Mgr Tréhiou à Vannes pour la conférence avec Damien Thomas\, intitulée « Quels nouveaux modes de vie pour les chrétiens ? Développer des oasis de chrétienté ». \nLa conférence sera précédée d’une brève présentation des activités de l’AFC du Pays de Vannes et sera suivie par un verre de l’amitié. Afin que le plus grand nombre suivent cette conférence\, elle sera retransmise sur le site Internet des AFC du Morbihan : www.afc56.fr.
URL:https://lesalonbeige.fr/evenement/16-septembre-quels-nouveaux-modes-de-vie-pour-les-chretiens-developper-des-oasis-de-chretiente/
LOCATION:Maison du Diocèse – Espace Montcalm – Vannes\, 55 rue Mgr Tréhiou\, VANNES\, 56000\, France
CATEGORIES:56 - Morbihan
ATTACH;FMTTYPE=image/jpeg:https://lesalonbeige.fr/wp-content/uploads/2021/08/afc-affichea3-thomas-20210916-scaled.jpg
ORGANIZER;CN="AFC du Pays de Vannes":MAILTO:afc56vannes@gmail.com
GEO:47.6505061;-2.7537298
X-APPLE-STRUCTURED-LOCATION;VALUE=URI;X-ADDRESS=Maison du Diocèse – Espace Montcalm – Vannes 55 rue Mgr Tréhiou VANNES 56000 France;X-APPLE-RADIUS=500;X-TITLE=55 rue Mgr Tréhiou:geo:-2.7537298,47.6505061
END:VEVENT
END:VCALENDAR