BEGIN:VCALENDAR
VERSION:2.0
PRODID:-//Le Salon Beige - ECPv6.15.18//NONSGML v1.0//EN
CALSCALE:GREGORIAN
METHOD:PUBLISH
X-WR-CALNAME:Le Salon Beige
X-ORIGINAL-URL:https://lesalonbeige.fr
X-WR-CALDESC:Évènements pour Le Salon Beige
REFRESH-INTERVAL;VALUE=DURATION:PT1H
X-Robots-Tag:noindex
X-PUBLISHED-TTL:PT1H
BEGIN:VTIMEZONE
TZID:Europe/Paris
BEGIN:DAYLIGHT
TZOFFSETFROM:+0100
TZOFFSETTO:+0200
TZNAME:CEST
DTSTART:20200329T010000
END:DAYLIGHT
BEGIN:STANDARD
TZOFFSETFROM:+0200
TZOFFSETTO:+0100
TZNAME:CET
DTSTART:20201025T010000
END:STANDARD
BEGIN:DAYLIGHT
TZOFFSETFROM:+0100
TZOFFSETTO:+0200
TZNAME:CEST
DTSTART:20210328T010000
END:DAYLIGHT
BEGIN:STANDARD
TZOFFSETFROM:+0200
TZOFFSETTO:+0100
TZNAME:CET
DTSTART:20211031T010000
END:STANDARD
BEGIN:DAYLIGHT
TZOFFSETFROM:+0100
TZOFFSETTO:+0200
TZNAME:CEST
DTSTART:20220327T010000
END:DAYLIGHT
BEGIN:STANDARD
TZOFFSETFROM:+0200
TZOFFSETTO:+0100
TZNAME:CET
DTSTART:20221030T010000
END:STANDARD
END:VTIMEZONE
BEGIN:VEVENT
DTSTART;TZID=Europe/Paris:20210615T200000
DTEND;TZID=Europe/Paris:20210615T220000
DTSTAMP:20260423T080713
CREATED:20210605T082813Z
LAST-MODIFIED:20210605T082813Z
UID:339840-1623787200-1623794400@lesalonbeige.fr
SUMMARY:15 juin : conférence d'Eugénie Bastié consacrée à son dernier ouvrage La guerre des idées
DESCRIPTION:Mardi 15 juin à 20h\, Ichtus reçoit Eugénie Bastié pour une conférence consacrée à son dernier ouvrage La guerre des idées récemment paru chez Robert Laffont. \nInscription obligatoire sur ce lien. \nCette conférence se déroulera à 20h au 49 rue des Renaudes\, Paris 17e. L’inscription en ligne est obligatoire pour y accéder.
URL:https://lesalonbeige.fr/evenement/15-juin-conference-deugenie-bastie-consacree-a-son-dernier-ouvrage-la-guerre-des-idees/
LOCATION:ICHTUS 49 rue des Renaudes 75017 Paris\, 49 rue des Renaudes\, Paris\, 75017\, France
CATEGORIES:75 - Paris
ATTACH;FMTTYPE=image/png:https://lesalonbeige.fr/wp-content/uploads/2021/06/soiree-avec-eugenie-bastie.png
ORGANIZER;CN="ICHTUS":MAILTO:contact@ichtus.fr
GEO:48.8812291;2.2965427
X-APPLE-STRUCTURED-LOCATION;VALUE=URI;X-ADDRESS=ICHTUS 49 rue des Renaudes 75017 Paris 49 rue des Renaudes Paris 75017 France;X-APPLE-RADIUS=500;X-TITLE=49 rue des Renaudes:geo:2.2965427,48.8812291
END:VEVENT
END:VCALENDAR